BEGIN:VCALENDAR
VERSION:2.0
PRODID:-//Grevlunda Yoga på Österlen - ECPv6.15.18//NONSGML v1.0//EN
CALSCALE:GREGORIAN
METHOD:PUBLISH
X-ORIGINAL-URL:https://www.grevlundayoga.se
X-WR-CALDESC:Händelser för Grevlunda Yoga på Österlen
REFRESH-INTERVAL;VALUE=DURATION:PT1H
X-Robots-Tag:noindex
X-PUBLISHED-TTL:PT1H
BEGIN:VTIMEZONE
TZID:Europe/Stockholm
BEGIN:DAYLIGHT
TZOFFSETFROM:+0100
TZOFFSETTO:+0200
TZNAME:CEST
DTSTART:20250330T010000
END:DAYLIGHT
BEGIN:STANDARD
TZOFFSETFROM:+0200
TZOFFSETTO:+0100
TZNAME:CET
DTSTART:20251026T010000
END:STANDARD
BEGIN:DAYLIGHT
TZOFFSETFROM:+0100
TZOFFSETTO:+0200
TZNAME:CEST
DTSTART:20260329T010000
END:DAYLIGHT
BEGIN:STANDARD
TZOFFSETFROM:+0200
TZOFFSETTO:+0100
TZNAME:CET
DTSTART:20261025T010000
END:STANDARD
BEGIN:DAYLIGHT
TZOFFSETFROM:+0100
TZOFFSETTO:+0200
TZNAME:CEST
DTSTART:20270328T010000
END:DAYLIGHT
BEGIN:STANDARD
TZOFFSETFROM:+0200
TZOFFSETTO:+0100
TZNAME:CET
DTSTART:20271031T010000
END:STANDARD
END:VTIMEZONE
BEGIN:VEVENT
DTSTART;TZID=Europe/Stockholm:20260124T100000
DTEND;TZID=Europe/Stockholm:20260124T120000
DTSTAMP:20260421T215705
CREATED:20251208T162743Z
LAST-MODIFIED:20260123T105956Z
UID:2199-1769248800-1769256000@www.grevlundayoga.se
SUMMARY:Dharma and meditation - "what is awakening?"
DESCRIPTION:OBS FULLBOKAD/FULLY BOOKED! \nThe word Buddha simply means “awake.” In this Dharma and meditation morning\, we’ll explore the metaphor of awakening. In what ways might we be sleepwalking through our lives\, caught up in dreams and delusions? And what would it mean to wake up to the way things actually are—to have a clearer\, kinder view of ourselves and the world around us? \nDuring our time together\, we’ll explore these questions through meditation\, reflection\, and conversation. What does it feel like to wake up\, even for a moment? What becomes possible when our view becomes clearer? And how might this everyday awakening support a kinder\, more grounded way of living? \nVajradarshini\, who will be guiding us this morning\, is known for her down-to-earth approach to Dharma practice. She has a great love of people and her approach to leading retreats is to set up conditions where people feel at ease and able to truly be themselves\, before diving deep into the Dharma. With nearly 40 years of Dharma practice behind her she draws widely on the Buddhist tradition and on contemporary art and culture\, weaving them together to create engaging and enjoyable retreats. Find out more on her website https://www.redladderstudio.com/ \nThis event will be in English. Book a space by sending an email to madeleine@businessinspiration.se and swish 350 SEK to swishnumber 1233769288 (Business Inspiration Sweden AB). The booking is binding\, but you can transfer the spot to someone else. Most welcome :)!
URL:https://www.grevlundayoga.se/event/dharma-and-meditation-what-is-awakening/
LOCATION:Grevlunda Backar\, Grevlunda Backaväg 8\, Vitaby\, Skåne\, 27736\, Sverige
CATEGORIES:workshops
ATTACH;FMTTYPE=image/jpeg:https://www.grevlundayoga.se/wp-content/uploads/2025/12/Rachel-1600x900-1.jpg
ORGANIZER;CN="Grevlunda Yoga":MAILTO:madeleine@businessinspiration.se
END:VEVENT
BEGIN:VEVENT
DTSTART;TZID=Europe/Stockholm:20260126T180000
DTEND;TZID=Europe/Stockholm:20260126T191500
DTSTAMP:20260421T215705
CREATED:20251117T115330Z
LAST-MODIFIED:20251218T123714Z
UID:2163-1769450400-1769454900@www.grevlundayoga.se
SUMMARY:Kurs - Yoga för män
DESCRIPTION:OBS. Fullbokat!  \nYoga för män är perfekt för dig som vill öka din rörlighet ock kroppsmedvetenhet samtidigt som du bygger styrka. Samtidigt får du verktyg för att stilla ditt sinne och öka ditt välbefinnande. Kursen passar såväl dig som vill börja med yoga och för dig som hållit på ett tag och vill utveckla din yoga och få igång en regelbunden praktik. En unik möjlighet att få utforska yogan i en trygg och avslappnad gemenskap tillsammans med en grupp likasinnade män. \nBjörn som håller kursen kom i kontakt med yogan för 15 år sedan och yogan är idag en central del av hans liv. Björn har 500 timmars yogalärarutbildning och har specialiserat sig på Hatha yoga som han brinner för.  Björns klasser är dynamiska och styrkebaserade men ger också utrymme för att landa i dig själv för att skapa en ökad avslappning\, närvaro och medvetenhet.  Björn guidar dig tryggt genom yogapasset oavsett vilken nivå du är på. \nVi ses tio måndag kvällar mellan kl 18:00 – 19:15 med start den 26 januari. Kursen avslutas den 30 mars.  Anmälan till kursen görs till bjorn@businessinspiration.se. Platsen är bokad när betalningen 1800 kr är gjord till swishnr 1233769288 (Business Inspiration Sweden AB). \nVi har ett kombinerat early bird och julklappserbjudande vilket innebär att du endast betalar 1600 Kr om du bokar senast den 23 december. \n”Fantatiskt hathapass med en otroligt duktig instruktör” \n”Var på invigningspass med Björn och kommer mer än gärna tillbaka! Och så vackert gården ligger!” \n”Vackert belägen yogastudio med trevlig och erfaren yogaledare. Jag kan varmt rekommendera att delta i yogapass här.”
URL:https://www.grevlundayoga.se/event/kurs-yoga-for-man-3/
LOCATION:Grevlunda Backar\, Grevlunda Backaväg 8\, Vitaby\, Skåne\, 27736\, Sverige
ATTACH;FMTTYPE=image/jpeg:https://www.grevlundayoga.se/wp-content/uploads/2022/07/Yoga-Bjorn-2-scaled-e1668939714118.jpg
ORGANIZER;CN="Grevlunda Yoga":MAILTO:madeleine@businessinspiration.se
END:VEVENT
END:VCALENDAR