BEGIN:VCALENDAR
VERSION:2.0
PRODID:-//Grevlunda Yoga på Österlen - ECPv6.15.20//NONSGML v1.0//EN
CALSCALE:GREGORIAN
METHOD:PUBLISH
X-ORIGINAL-URL:https://www.grevlundayoga.se
X-WR-CALDESC:Händelser för Grevlunda Yoga på Österlen
REFRESH-INTERVAL;VALUE=DURATION:PT1H
X-Robots-Tag:noindex
X-PUBLISHED-TTL:PT1H
BEGIN:VTIMEZONE
TZID:Europe/Stockholm
BEGIN:DAYLIGHT
TZOFFSETFROM:+0100
TZOFFSETTO:+0200
TZNAME:CEST
DTSTART:20230326T010000
END:DAYLIGHT
BEGIN:STANDARD
TZOFFSETFROM:+0200
TZOFFSETTO:+0100
TZNAME:CET
DTSTART:20231029T010000
END:STANDARD
BEGIN:DAYLIGHT
TZOFFSETFROM:+0100
TZOFFSETTO:+0200
TZNAME:CEST
DTSTART:20240331T010000
END:DAYLIGHT
BEGIN:STANDARD
TZOFFSETFROM:+0200
TZOFFSETTO:+0100
TZNAME:CET
DTSTART:20241027T010000
END:STANDARD
BEGIN:DAYLIGHT
TZOFFSETFROM:+0100
TZOFFSETTO:+0200
TZNAME:CEST
DTSTART:20250330T010000
END:DAYLIGHT
BEGIN:STANDARD
TZOFFSETFROM:+0200
TZOFFSETTO:+0100
TZNAME:CET
DTSTART:20251026T010000
END:STANDARD
END:VTIMEZONE
BEGIN:VEVENT
DTSTART;TZID=Europe/Stockholm:20240901T170000
DTEND;TZID=Europe/Stockholm:20240901T181500
DTSTAMP:20260423T041957
CREATED:20240804T121324Z
LAST-MODIFIED:20240804T121405Z
UID:1730-1725210000-1725214500@www.grevlundayoga.se
SUMMARY:Kurs Ryttaryoga 5 söndagar
DESCRIPTION:Under fem söndagar med start 1 september kl 17.00 till 18.15 får du som ryttare ta del av yoga som stöttar din sits\, ridning och kontakt med hästen. Varje pass är helt unikt med ett eget tema 1) Öppna upp för den lodräta sitsen\, 2) Balans\, 3) Stärk Core 4) Andning och meditation och 5) Yinyoga för ökad rörlighet. Madeleine är både yogalärare och ryttare med mångårig erfarenhet av egen häst\, träning och tävling. Pris 900 kronor. Anmälan till madeleine@businessinspiration.se. Platsen är bokad när betalningen 900 kr är gjord till swishnr 1233769288 (Business Inspiration Sweden AB). Boka per gång i mån av plats 200 kr per gång\, görs via TimeCenter.
URL:https://www.grevlundayoga.se/event/kurs-ryttaryoga-5-sondagar/
LOCATION:Grevlunda Backar\, Grevlunda Backaväg 8\, Vitaby\, Skåne\, 27736\, Sverige
CATEGORIES:Yoga
ATTACH;FMTTYPE=image/jpeg:https://www.grevlundayoga.se/wp-content/uploads/2024/08/trangeln.jpg
ORGANIZER;CN="Grevlunda Yoga":MAILTO:madeleine@businessinspiration.se
END:VEVENT
BEGIN:VEVENT
DTSTART;TZID=Europe/Stockholm:20240907T100000
DTEND;TZID=Europe/Stockholm:20240907T160000
DTSTAMP:20260423T041957
CREATED:20240325T083720Z
LAST-MODIFIED:20240818T195113Z
UID:1589-1725703200-1725724800@www.grevlundayoga.se
SUMMARY:Yinyoga fördjupningsdag - jordelementet
DESCRIPTION:OBS FULLBOKAD! \nFör dig som vill lära dig mer om yinyoga finns nu denna heldagsfördjupning. Tanken är att du efter dagen ska ha kunskap och inspiration att göra yinyoga hemma. I vacker miljö\, i en härlig gemenskap och med god hälsosam vegetarisk glutenfri mat får du lära dig mer om grunderna i yinyoga\, mer om alla positiva effekter och hur du kan anpassa positionerna efter din kropp. Du kommer att få två pass att ta med dig hem. Passen kommer tillsammans med en sammanfattning av teorin i ett sexsidigt häfte. Inga förkunskaper krävs. Maten vi lagar är baserad på närodlade ekologiska råvaror av högsta kvalitet och de rätter vi serverar väljs utifrån årstiden och vad som stärker kroppen bäst under innevarande säsong. \nFörutom att öka rörligheten och hjälpa kroppen att varva ner\, fungerar yinyoga som akupunktur utan nålar. Enligt traditionell kinesisk medicin\, TCM\, dominerar jord-elementet under sensommaren. Det är kopplat till mjältens och magens meridianer. \nUnder dagen får du lära dig mer om yinyoga och fördjupa dig i jord-elementet och hur du kan anpassa yinyogan efter naturens naturliga rytm. Enligt TCM (Traditionell Kinesisk medicin) bör man leva i harmoni med naturen och följa årstidsväxlingarna för att själv vara i balans och hålla sig frisk. \nMadeleine som guidar dagen har 500 ++ timmars yogalärarutbildning\, certifierad enligt Yoga Alliance\, varav 200 timmar är yinyogalärarutbildning. Hon är även utbildad psykosyntesterapeut\, rosenterapeut\, skogsbadsguide och uteyogacoach. Hon har en daglig meditationspraktik (Vipassana) och åker på tysta retreater flera gånger per år. Hon har tidigare arbetat som terapeut på heltid under 10 år\, och är författare till åtta böcker om personlig utveckling och ledarskap. \n”Tack för en härlig yin yoga dag 🙏 Upplever Grevlunda Yoga som en oas att landa i. Platsen är lugn och fridfull\, yogasalen omsorgsfullt inredd och energin som fyller den inbjuder till närvaro. Gillar verkligen Madeleines guidning som jag upplever mjuk\, vänlig\, strukturerad och tydlig – som balansen mellan yin och yang materialiserad. Därtill den goda maten och det smarriga fikat. En riktig treat. Med ett leende på läpparna hör jag Madeleines ord klinga ”aha – intressant” när jag noterar mitt tankeflöde på hemvägen 😊 Vilket ställe ni har skapat och driver Madeleine och Björn\, så tacksam att ni finns i Grevlunda ❤” Rebecka \n”Tack för en härlig och avkopplande dag! Din yinyogautbildning var helt suverän! Kommer att prioritera att lägga tid på yogan och passar ju bra att börja på semestern :).” Monica \n”-ligt TACK för en fantastisk dag\, med yinyoga\, intressant teori o magiskt god mat! Bästa betyg till er!” Pia  \nAnmälan sker till madeleine@businessinspiration.se och betalning 1095 kr till swishnr 1233769288 (Business Inspiration Sweden AB). När betalningen är gjord är platsen bokad och garanterad. Märk betalningen med ditt namn och vilket evenemang som anmälan avser. Uppge om du har någon eventuell matallergi vid anmälan. Ha mjuka kläder att yoga i. Det finns mattor och hjälpmedel att låna. Om du vill ha egen matta med dig\, är du välkommen att ta med din egen. \nVi har mjukat upp SAUFs (Sveriges auktoriserade utbildningsföretag) standardregler för avbokning av öppen kurs. Detta innebär att din anmälan är bindande så snart du har fått en bekräftelse skickad till dig. Vid avbokning 14-8 dagar före kursstart debiteras 50% av kursavgiften. Vid avbokning och icke-deltagande utan avbokning 7-0 dagar före kursstart debiteras 100% av kursavgiften. Du kan överlåta din plats till annan deltagare. Meddela oss isf så vi vet vem som kommer 😊. Ställs kursen in betalar vi tillbaka din inbetalning.
URL:https://www.grevlundayoga.se/event/yinyoga-fordjupningsdag-jordelementet/
LOCATION:Grevlunda Backar\, Grevlunda Backaväg 8\, Vitaby\, Skåne\, 27736\, Sverige
CATEGORIES:workshops
ATTACH;FMTTYPE=image/jpeg:https://www.grevlundayoga.se/wp-content/uploads/2023/04/sphinx.jpg
ORGANIZER;CN="Grevlunda Yoga":MAILTO:madeleine@businessinspiration.se
END:VEVENT
BEGIN:VEVENT
DTSTART;TZID=Europe/Stockholm:20240921T100000
DTEND;TZID=Europe/Stockholm:20240921T230000
DTSTAMP:20260423T041957
CREATED:20240704T064715Z
LAST-MODIFIED:20240704T064715Z
UID:1671-1726912800-1726959600@www.grevlundayoga.se
SUMMARY:Studiebesök i samarbete med Biosfärområde Österlen
DESCRIPTION:Den 21 september klockan 10 visar vi upp våra odlingar och berättar om vår vision att bli självförsörjande på grönsaker och bär\, samt leva ett hållbart liv i samklang med naturen. Vår odling är baserad på no-dig och permakultur. Vi har även etablerat en fruktodling inspirerad av skogsträdgårdsens principer. I våra odlingsbäddar finns också en rad perenna ätliga växter. Vi har en nötodling på på plats och ett växthus. I planerna framåt finns en bevattningsdamm\, en våtmark och etablering av ängsmark. \nAnmälan till madeleine@businessinspiration.se. För att komma behöver du vara medlem i Biosfärområde Österlen biosfarosterlen.se – Föreningen för ett biosfärområde för Österlen!. Vi bjuder på fika efter rundturen. \nVarmt välkommen Madeleine och Björn
URL:https://www.grevlundayoga.se/event/studiebesok-i-samarbete-med-biosfaromrade-osterlen/
LOCATION:Grevlunda Backar\, Grevlunda Backaväg 8\, Vitaby\, Skåne\, 27736\, Sverige
CATEGORIES:odling
ATTACH;FMTTYPE=image/jpeg:https://www.grevlundayoga.se/wp-content/uploads/2024/04/grevlundaodling.jpg
ORGANIZER;CN="Grevlunda Yoga":MAILTO:madeleine@businessinspiration.se
END:VEVENT
END:VCALENDAR