BEGIN:VCALENDAR
VERSION:2.0
PRODID:-//Grevlunda Yoga på Österlen - ECPv6.15.20//NONSGML v1.0//EN
CALSCALE:GREGORIAN
METHOD:PUBLISH
X-WR-CALNAME:Grevlunda Yoga på Österlen
X-ORIGINAL-URL:https://www.grevlundayoga.se
X-WR-CALDESC:Händelser för Grevlunda Yoga på Österlen
REFRESH-INTERVAL;VALUE=DURATION:PT1H
X-Robots-Tag:noindex
X-PUBLISHED-TTL:PT1H
BEGIN:VTIMEZONE
TZID:Europe/Stockholm
BEGIN:DAYLIGHT
TZOFFSETFROM:+0100
TZOFFSETTO:+0200
TZNAME:CEST
DTSTART:20230326T010000
END:DAYLIGHT
BEGIN:STANDARD
TZOFFSETFROM:+0200
TZOFFSETTO:+0100
TZNAME:CET
DTSTART:20231029T010000
END:STANDARD
BEGIN:DAYLIGHT
TZOFFSETFROM:+0100
TZOFFSETTO:+0200
TZNAME:CEST
DTSTART:20240331T010000
END:DAYLIGHT
BEGIN:STANDARD
TZOFFSETFROM:+0200
TZOFFSETTO:+0100
TZNAME:CET
DTSTART:20241027T010000
END:STANDARD
BEGIN:DAYLIGHT
TZOFFSETFROM:+0100
TZOFFSETTO:+0200
TZNAME:CEST
DTSTART:20250330T010000
END:DAYLIGHT
BEGIN:STANDARD
TZOFFSETFROM:+0200
TZOFFSETTO:+0100
TZNAME:CET
DTSTART:20251026T010000
END:STANDARD
END:VTIMEZONE
BEGIN:VEVENT
DTSTART;TZID=Europe/Stockholm:20240220T180000
DTEND;TZID=Europe/Stockholm:20240220T191500
DTSTAMP:20260423T122751
CREATED:20240209T111305Z
LAST-MODIFIED:20240209T111448Z
UID:1529-1708452000-1708456500@www.grevlundayoga.se
SUMMARY:Yinyoga kurs - Funktionell mindful yinyoga
DESCRIPTION:Vill du lära dig mer om yinyoga så att du har kunskap och inspiration att få in denna fantastiska yoga i ditt dagliga liv? Med hjälp av yinyogan ökar du rörligheten\, balanserar ett aktivt liv\, blir mer medvetet närvarande samtidigt som yinyogan fungerar som akupunktur utan nålar.\n\nMadeleine har 500 plus timmars yogalärarutbildning\, varav 200 timmar är yinyogalärarutbildning. Du får lära dig en funktionell mindful yinyoga. Vilket innebär att varje position anpassas efter din unika kropp och vi tränar mindfulness om kroppen under varje position.\n\nVi träffas i en och samma grupp kl 18.00-19.15 fem tisdagar i rad med början den 20 februari. Varje pass är unikt och uppbyggt kring ett specifikt tema.\n\nAnmälan till madeleine@businessinspiration.se och din investering för hela kursen är 695 kronor. Platsen är bokad när betalningen är gjord till swishnr 1233769288 (Business Inspiration).\n\n”Vackert belägen yogastudio med trevlig och erfaren yogaledare. Jag kan varmt rekommendera att delta i yogapass här.”\n\n”Härlig miljö! Madeleine röst är fantastisk och hela upplevelsen var såå härlig och fick mig att komma till ro i julveckan.”
URL:https://www.grevlundayoga.se/event/yinyoga-kurs-funktionell-mindful-yinyoga/
LOCATION:Grevlunda Backar\, Grevlunda Backaväg 8\, Vitaby\, Skåne\, 27736\, Sverige
CATEGORIES:Yoga
ATTACH;FMTTYPE=image/jpeg:https://www.grevlundayoga.se/wp-content/uploads/2023/07/yinyoga-kurs.jpg
ORGANIZER;CN="Grevlunda Yoga":MAILTO:madeleine@businessinspiration.se
END:VEVENT
END:VCALENDAR