BEGIN:VCALENDAR
VERSION:2.0
PRODID:-//Grevlunda Yoga på Österlen - ECPv6.15.18//NONSGML v1.0//EN
CALSCALE:GREGORIAN
METHOD:PUBLISH
X-ORIGINAL-URL:https://www.grevlundayoga.se
X-WR-CALDESC:Händelser för Grevlunda Yoga på Österlen
REFRESH-INTERVAL;VALUE=DURATION:PT1H
X-Robots-Tag:noindex
X-PUBLISHED-TTL:PT1H
BEGIN:VTIMEZONE
TZID:Europe/Stockholm
BEGIN:DAYLIGHT
TZOFFSETFROM:+0100
TZOFFSETTO:+0200
TZNAME:CEST
DTSTART:20250330T010000
END:DAYLIGHT
BEGIN:STANDARD
TZOFFSETFROM:+0200
TZOFFSETTO:+0100
TZNAME:CET
DTSTART:20251026T010000
END:STANDARD
BEGIN:DAYLIGHT
TZOFFSETFROM:+0100
TZOFFSETTO:+0200
TZNAME:CEST
DTSTART:20260329T010000
END:DAYLIGHT
BEGIN:STANDARD
TZOFFSETFROM:+0200
TZOFFSETTO:+0100
TZNAME:CET
DTSTART:20261025T010000
END:STANDARD
BEGIN:DAYLIGHT
TZOFFSETFROM:+0100
TZOFFSETTO:+0200
TZNAME:CEST
DTSTART:20270328T010000
END:DAYLIGHT
BEGIN:STANDARD
TZOFFSETFROM:+0200
TZOFFSETTO:+0100
TZNAME:CET
DTSTART:20271031T010000
END:STANDARD
END:VTIMEZONE
BEGIN:VEVENT
DTSTART;TZID=Europe/Stockholm:20261212T080000
DTEND;TZID=Europe/Stockholm:20261212T170000
DTSTAMP:20260421T054152
CREATED:20260217T144907Z
LAST-MODIFIED:20260226T071947Z
UID:2495-1797062400-1797094800@www.grevlundayoga.se
SUMMARY:Test av biljettförsäljning (Ej bokningsbart)
DESCRIPTION:N/A
URL:https://www.grevlundayoga.se/event/test-av-biljettforsaljning-ej-bokningsbart/
LOCATION:Grevlunda Backar\, Grevlunda Backaväg 8\, Vitaby\, Skåne\, 27736\, Sverige
CATEGORIES:Yoga
ATTACH;FMTTYPE=image/jpeg:https://www.grevlundayoga.se/wp-content/uploads/2023/07/Yoga-e1690009010613.jpg
ORGANIZER;CN="Grevlunda Yoga":MAILTO:madeleine@businessinspiration.se
END:VEVENT
END:VCALENDAR