BEGIN:VCALENDAR
VERSION:2.0
PRODID:-//Grevlunda Yoga på Österlen - ECPv6.15.18//NONSGML v1.0//EN
CALSCALE:GREGORIAN
METHOD:PUBLISH
X-WR-CALNAME:Grevlunda Yoga på Österlen
X-ORIGINAL-URL:https://www.grevlundayoga.se
X-WR-CALDESC:Händelser för Grevlunda Yoga på Österlen
REFRESH-INTERVAL;VALUE=DURATION:PT1H
X-Robots-Tag:noindex
X-PUBLISHED-TTL:PT1H
BEGIN:VTIMEZONE
TZID:Europe/Stockholm
BEGIN:DAYLIGHT
TZOFFSETFROM:+0100
TZOFFSETTO:+0200
TZNAME:CEST
DTSTART:20230326T010000
END:DAYLIGHT
BEGIN:STANDARD
TZOFFSETFROM:+0200
TZOFFSETTO:+0100
TZNAME:CET
DTSTART:20231029T010000
END:STANDARD
BEGIN:DAYLIGHT
TZOFFSETFROM:+0100
TZOFFSETTO:+0200
TZNAME:CEST
DTSTART:20240331T010000
END:DAYLIGHT
BEGIN:STANDARD
TZOFFSETFROM:+0200
TZOFFSETTO:+0100
TZNAME:CET
DTSTART:20241027T010000
END:STANDARD
BEGIN:DAYLIGHT
TZOFFSETFROM:+0100
TZOFFSETTO:+0200
TZNAME:CEST
DTSTART:20250330T010000
END:DAYLIGHT
BEGIN:STANDARD
TZOFFSETFROM:+0200
TZOFFSETTO:+0100
TZNAME:CET
DTSTART:20251026T010000
END:STANDARD
END:VTIMEZONE
BEGIN:VEVENT
DTSTART;TZID=Europe/Stockholm:20240810T100000
DTEND;TZID=Europe/Stockholm:20240810T170000
DTSTAMP:20260422T032317
CREATED:20240223T085057Z
LAST-MODIFIED:20240623T171124Z
UID:1560-1723284000-1723309200@www.grevlundayoga.se
SUMMARY:Sommarretreat - tema - ett vänligare sinne
DESCRIPTION:OBS FULLBOKAD! \nVarmt välkommen till en lyxig heldag med yoga\, meditation och pranayama i vår fantastiska yogastudio\, vandring i vår sagolika skog och god vällagad vegetarisk\, glutenfri lunch och fika (ekologiska råvaror av högsta kvalitet). Råvarorna väljs utifrån årstiden och vad som stärker kroppen bäst. Temat för dagen är ett vänligare sinne. Många av oss har en vana att vara kritiska i tanken både mot oss själva och andra. Särskilt hårda är många mot sig själv. Under dagen tränar vi oss på att möta oss själva med en vänlig\, öppen\, nyfiken och kärleksfull attityd. Att möta sig själv på detta sätt sänker stressnivån och hjälper oss att hantera utmanande situationer i livet. \nVi startar dagen klockan 10.00 i vår studio på Grevlunda Backar med ett mjukt skönt hathayoga pass som avslutas med pranayama och meditation. Därefter serveras lunch i vårt brygghus. Efter lunchen beger vi oss ut på en promenad i vår sagoskog. Vandringen är ca 5 kilometer lång och den är relativt lättvandrad. Exakt hur lång vandringen blir och hur den läggs upp (eventuella stopp) avgörs av väderleken. När vi kommer tillbaka bjuds det på fika och därefter blir det yinyoga och meditation i vår vackra yogalokal. Dagen avslutas ca 17.00. \nMadeleine som guidar dagen har 500 ++ timmars yogalärarutbildning\, certifierad enligt Yoga Alliance. Hon är även utbildad psykosyntesterapeut\, rosenterapeut\, skogsbadsguide och uteyogalärarcoach. Hon har en daglig meditationspraktik (Vipassana) och åker på tysta retreater flera gånger per år. Hon har tidigare arbetat som terapeut på heltid under 10 år\, och är författare till åtta böcker om personlig utveckling och ledarskap. \n”Tack för en mycket fin dag! Bra yoga\, god mat och framförallt den av dig givande vägledningen under meditation och i reflektion under vandring i vårgrönskande skog. De tankar du väckte kommer ofta tillbaka till mig nu efteråt. Vi ses på sommaryogan!” Många hälsningar Karolina \n”Stort tack för en fantastisk dag! Känslan av lugn och harmoni sitter i och jag längtar tills på onsdag då det blir yinyoga. Han en fin dag ” Marlene \n”Stort tack för en jättefin dag! Jag uppskattade ditt yogapass mycket\, maten var god och du bjöd på en fantastisk vandring. Tack” Karin \nAnmälan sker till madeleine@businessinspiration.se och betalning 1095 kr till swishnr 1233769288 (Business Inspiration). När betalningen är gjord är platsen bokad och garanterad. Märk betalningen med ditt namn och vilket evenemang som anmälan avser. Uppge om du har någon eventuell matallergi vid anmälan. Ha mjuka kläder att yoga i. Det finns mattor och hjälpmedel att låna. Om du vill ha egen matta med dig\, är du välkommen att ta med din egen. \nVi har mjukat upp SAUFs (Sveriges auktoriserade utbildningsföretag) standardregler för avbokning av öppen kurs. Detta innebär att din anmälan är bindande så snart du har fått en bekräftelse skickad till dig. Vid avbokning 14-8 dagar före kursstart debiteras 50% av kursavgiften. Vid avbokning och icke-deltagande utan avbokning 7-0 dagar före kursstart debiteras 100% av kursavgiften. Du kan överlåta din plats till annan deltagare. Meddela oss isf så vi vet vem som kommer 😊. Ställs kursen in betalar vi tillbaka din inbetalning.
URL:https://www.grevlundayoga.se/event/sommarretreat-tema-ett-vanligare-sinne/
LOCATION:Grevlunda Backar\, Grevlunda Backaväg 8\, Vitaby\, Skåne\, 27736\, Sverige
CATEGORIES:Yoga
ATTACH;FMTTYPE=image/jpeg:https://www.grevlundayoga.se/wp-content/uploads/2023/11/Madeleine-meditation-hemsida.jpg
ORGANIZER;CN="Grevlunda Yoga":MAILTO:madeleine@businessinspiration.se
END:VEVENT
BEGIN:VEVENT
DTSTART;TZID=Europe/Stockholm:20240819T180000
DTEND;TZID=Europe/Stockholm:20240819T191500
DTSTAMP:20260422T032317
CREATED:20240714T153602Z
LAST-MODIFIED:20240714T153602Z
UID:1688-1724090400-1724094900@www.grevlundayoga.se
SUMMARY:Hatha Yoga kurs - måndagar 18:00 - 19:15
DESCRIPTION:Vill du fördjupa dina kunskaper i Hatha yoga eller är du ny till yogan och vill lära dig grunderna? Du kanske bara vill komma på ett skönt yoga pass? Oavsett vilket så passar den här kursen dig. Med hjälp av Hatha yogan så bygger du styrka samtidigt som du ökar rörligheten. Samtidigt får du verktyg för att stilla ditt sinne och öka ditt välbefinnande. \nBjörn har 500 timmars yogalärarutbildning och har specialiserat sig på Hatha yoga som han brinner för. Björn guidar dig tryggt genom yogapasset oavsett vilken nivå du är på. \nKursen startar den 19 augusti 2024 kl. 18.00-19.15 och pågår till och med den 4 november. Totalt 12 tillfällen.  Varje pass är unikt och uppbyggt kring ett specifikt tema för att du ska lära dig så mycket som möjligt. \nAnmäl dig till hela terminen  och ha en garanterad plats\, 1800 kr för hela terminen. Anmälan till hela terminen görs till bjorn@businessinspiration.se. Platsen är bokad när betalningen på 1800 kr är gjord till swishnr 1233769288 (Business Inspiration Sweden AB). Alternativt boka per gång i mån av plats\, 180 kr per gång\, görs via TimeCenter. \n”Fantatiskt hathapass med en otroligt duktig instruktör” \n”Var på invigningspass med Björn och kommer mer än gärna tillbaka! Och så vackert gården ligger!” \n”Vackert belägen yogastudio med trevlig och erfaren yogaledare. Jag kan varmt rekommendera att delta i yogapass här.”
URL:https://www.grevlundayoga.se/event/hatha-yoga-kurs-mandagar-1800-1915/
LOCATION:Grevlunda Backar\, Grevlunda Backaväg 8\, Vitaby\, Skåne\, 27736\, Sverige
CATEGORIES:Yoga
ATTACH;FMTTYPE=image/jpeg:https://www.grevlundayoga.se/wp-content/uploads/2023/07/Yoga-e1690009010613.jpg
ORGANIZER;CN="Grevlunda Yoga":MAILTO:madeleine@businessinspiration.se
END:VEVENT
BEGIN:VEVENT
DTSTART;TZID=Europe/Stockholm:20240824T100000
DTEND;TZID=Europe/Stockholm:20240824T153000
DTSTAMP:20260422T032317
CREATED:20240223T084713Z
LAST-MODIFIED:20240712T085945Z
UID:1558-1724493600-1724513400@www.grevlundayoga.se
SUMMARY:Yogavandring Haväng/Vitemölla tema självmedkänsla
DESCRIPTION:OBS FULLBOKAD! \nVarmt välkommen till en underbar dag i naturen med yoga\, vandring\, pranayama\, meditation och lunch/fika-stunder med vackra vyer. Temat för dagen är självmedkänsla. Guidade meditationer och yoga för att hitta mer snällhet och vänlighet mot den egna personen. \nVi samlas på den allmänna strandparkeringen vid Haväng (precis vid STF vandrarhem Haväng) klockan 10.00 och återkommer till samma plats ca 15.30. Vandringen börjar längs havet söderut och vi stannar och yogar ett par gånger med havet i blickfånget. Tillbakavägen går genom ängar\, skog och kohagar. Vi stannar för att fika i kanten av en skogsdunge och där ägnar vi en stund åt pranayama och meditation. Vandringen är 8-9 km lång\, och relativt lättvandrad. Miljön är sagolikt vacker. Begränsat antal deltagare. \nMadeleine som är guide är utbildad yogalärare inom flera discipliner\, uteyogacoach\, skogsbadsguide\, psykosyntesterapeut\, rosenterapeut och har lång erfarenhet av att arbeta med grupper och gruppdynamik. Hon är också författare till åtta böcker inom personlig utveckling och ledarskap. Hon hämtar inspiration från alla delar av sitt arbete. En viktig del är att alla ska känna sig välkomna och vara del av en varm gemenskap. \nBjörn är co-guide och är utbildad yogalärare med fokus på hathayoga. Han är också utbildad psykosyntes coach och van att leda grupper. \n“Jag har varit på flera olika yogavandringar och Madeleine & Björns är i en klass för sig. Omsorgsfullt valda platser i naturen\, alltid balans mellan vandring\, yoga\, meditation och mat. Samtidigt oerhört professionellt och avslappnat. Helt enkelt underbart för kropp och själ!” Therese S \nAnmälan sker via e-post till madeleine@businessinspiration.se och betalning 595 kr till swishnr 1233769288 (Business Inspiration Sweden AB). När betalningen är gjord är platsen bokad. Bekväma kläder efter väder. Medtag yogamatta samt lunch\, fika och vatten. Badkläder kan också komma väl till pass. \nVi har mjukat upp SAUFs (Sveriges auktoriserade utbildningsföretag) standardregler för avbokning av öppen kurs. Detta innebär att din anmälan är bindande så snart du har fått en bekräftelse skickad till dig. Vid avbokning 14-8 dagar före kursstart debiteras 50% av kursavgiften. Vid avbokning och icke-deltagande utan avbokning 7-0 dagar före kursstart debiteras 100% av kursavgiften. Du kan överlåta din plats till annan deltagare. Meddela oss isf så vi vet vem som kommer 😊. Ställs kursen in betalar vi tillbaka din inbetalning.
URL:https://www.grevlundayoga.se/event/yogavandring-havang-vitemolla-tema-sjalvmedkansla-3/
LOCATION:Haväng\, Haväng\, Haväng\, Sverige
CATEGORIES:Yoga
ATTACH;FMTTYPE=image/jpeg:https://www.grevlundayoga.se/wp-content/uploads/2023/04/Yogavandring-compassion.jpg
ORGANIZER;CN="Grevlunda Yoga":MAILTO:madeleine@businessinspiration.se
END:VEVENT
END:VCALENDAR