BEGIN:VCALENDAR
VERSION:2.0
PRODID:-//Grevlunda Yoga på Österlen - ECPv6.15.18//NONSGML v1.0//EN
CALSCALE:GREGORIAN
METHOD:PUBLISH
X-WR-CALNAME:Grevlunda Yoga på Österlen
X-ORIGINAL-URL:https://www.grevlundayoga.se
X-WR-CALDESC:Händelser för Grevlunda Yoga på Österlen
REFRESH-INTERVAL;VALUE=DURATION:PT1H
X-Robots-Tag:noindex
X-PUBLISHED-TTL:PT1H
BEGIN:VTIMEZONE
TZID:Europe/Stockholm
BEGIN:DAYLIGHT
TZOFFSETFROM:+0100
TZOFFSETTO:+0200
TZNAME:CEST
DTSTART:20230326T010000
END:DAYLIGHT
BEGIN:STANDARD
TZOFFSETFROM:+0200
TZOFFSETTO:+0100
TZNAME:CET
DTSTART:20231029T010000
END:STANDARD
BEGIN:DAYLIGHT
TZOFFSETFROM:+0100
TZOFFSETTO:+0200
TZNAME:CEST
DTSTART:20240331T010000
END:DAYLIGHT
BEGIN:STANDARD
TZOFFSETFROM:+0200
TZOFFSETTO:+0100
TZNAME:CET
DTSTART:20241027T010000
END:STANDARD
BEGIN:DAYLIGHT
TZOFFSETFROM:+0100
TZOFFSETTO:+0200
TZNAME:CEST
DTSTART:20250330T010000
END:DAYLIGHT
BEGIN:STANDARD
TZOFFSETFROM:+0200
TZOFFSETTO:+0100
TZNAME:CET
DTSTART:20251026T010000
END:STANDARD
END:VTIMEZONE
BEGIN:VEVENT
DTSTART;TZID=Europe/Stockholm:20240706T090000
DTEND;TZID=Europe/Stockholm:20240706T233000
DTSTAMP:20260422T031719
CREATED:20240422T111203Z
LAST-MODIFIED:20240422T111203Z
UID:1612-1720256400-1720308600@www.grevlundayoga.se
SUMMARY:Hathayoga flow med efterföljande hälsosam yogifrukost
DESCRIPTION:Starta dagen med hathayoga flow i vår vackra studio som är inbäddad i sagolik natur. Passar alla nivåer. Mattor och hjälpmedel finns att låna. Efter det 75 minuter långa yogapasset serveras nyttig och hälsosam yogifrukost tillsammans med kaffe och te. Frukosten är vegetarisk och antiinflammatorisk baserad på ekologiska råvaror av högsta kvalitet. Du avnjuter frukosten i vår matsal\, i brygghuset eller mitt bland odlingarna beroende på väder. Anmälan till madeleine@businessinspiration.se. Platsen är bokad när betalningen är gjord. 395 kronor till swishnummer 1233769288 (Business Inspiration Sweden AB). Bokningen är bindande och platsen går att överlåta. Varmt välkommen till en ljuvlig start på dagen.
URL:https://www.grevlundayoga.se/event/hathayoga-flow-med-efterfoljande-halsosam-yogifrukost/
LOCATION:Skåne
CATEGORIES:Yoga
ATTACH;FMTTYPE=image/jpeg:https://www.grevlundayoga.se/wp-content/uploads/2024/04/grevlundaodling.jpg
END:VEVENT
END:VCALENDAR