BEGIN:VCALENDAR
VERSION:2.0
PRODID:-//Grevlunda Yoga på Österlen - ECPv6.15.20//NONSGML v1.0//EN
CALSCALE:GREGORIAN
METHOD:PUBLISH
X-WR-CALNAME:Grevlunda Yoga på Österlen
X-ORIGINAL-URL:https://www.grevlundayoga.se
X-WR-CALDESC:Händelser för Grevlunda Yoga på Österlen
REFRESH-INTERVAL;VALUE=DURATION:PT1H
X-Robots-Tag:noindex
X-PUBLISHED-TTL:PT1H
BEGIN:VTIMEZONE
TZID:Europe/Stockholm
BEGIN:DAYLIGHT
TZOFFSETFROM:+0100
TZOFFSETTO:+0200
TZNAME:CEST
DTSTART:20230326T010000
END:DAYLIGHT
BEGIN:STANDARD
TZOFFSETFROM:+0200
TZOFFSETTO:+0100
TZNAME:CET
DTSTART:20231029T010000
END:STANDARD
BEGIN:DAYLIGHT
TZOFFSETFROM:+0100
TZOFFSETTO:+0200
TZNAME:CEST
DTSTART:20240331T010000
END:DAYLIGHT
BEGIN:STANDARD
TZOFFSETFROM:+0200
TZOFFSETTO:+0100
TZNAME:CET
DTSTART:20241027T010000
END:STANDARD
BEGIN:DAYLIGHT
TZOFFSETFROM:+0100
TZOFFSETTO:+0200
TZNAME:CEST
DTSTART:20250330T010000
END:DAYLIGHT
BEGIN:STANDARD
TZOFFSETFROM:+0200
TZOFFSETTO:+0100
TZNAME:CET
DTSTART:20251026T010000
END:STANDARD
END:VTIMEZONE
BEGIN:VEVENT
DTSTART;TZID=Europe/Stockholm:20240402T180000
DTEND;TZID=Europe/Stockholm:20240402T191500
DTSTAMP:20260422T171934
CREATED:20240222T080622Z
LAST-MODIFIED:20240222T080622Z
UID:1554-1712080800-1712085300@www.grevlundayoga.se
SUMMARY:Yinyoga kurs - fem tisdagar 18-19.15
DESCRIPTION:Vill du lära dig mer om yinyoga så att du har kunskap och inspiration att få in denna fantastiska yoga i ditt dagliga liv? Med hjälp av yinyogan ökar du rörligheten\, balanserar ett aktivt liv\, blir mer medvetet närvarande samtidigt som yinyogan fungerar som akupunktur utan nålar. Du får lära dig en funktionell mindful yinyoga\, och lär dig lyssna på din kropp och anpassa positionerna efter dina egna förutsättningar. Vi träffas i en och samma grupp kl. 18.00-19.15 fem tisdagar med början den 2 april därefter 9 april\, 16 april\, 23 april och 7 maj. Varje pass är unikt och uppbyggt kring ett specifikt tema. \nMadeleine har 500 plus timmars yogalärarutbildning\, varav 200 timmar är yinyogalärarutbildning. Anmälan till madeleine@businessinspiration.se och din investering för hela kursen är 695 kronor. Platsen är bokad när betalningen är gjord till swishnr 1233769288 (Business Inspiration Sweden AB). Det finns mjuka ullmattor och andra hjälpmedel att låna. Studion är sobert inredd och ligger i en naturskön med miljö med vacker utsikt. \nVarmt välkommen 🙂 Madeleine
URL:https://www.grevlundayoga.se/event/yinyoga-kurs-fem-tisdagar-18-19-15/
LOCATION:Grevlunda Backar\, Grevlunda Backaväg 8\, Vitaby\, Skåne\, 27736\, Sverige
CATEGORIES:Yoga
ATTACH;FMTTYPE=image/jpeg:https://www.grevlundayoga.se/wp-content/uploads/2023/07/yinyoga-kurs.jpg
ORGANIZER;CN="Grevlunda Yoga":MAILTO:madeleine@businessinspiration.se
END:VEVENT
BEGIN:VEVENT
DTSTART;TZID=Europe/Stockholm:20240420T100000
DTEND;TZID=Europe/Stockholm:20240420T170000
DTSTAMP:20260422T171934
CREATED:20240111T105703Z
LAST-MODIFIED:20240211T120432Z
UID:1499-1713607200-1713632400@www.grevlundayoga.se
SUMMARY:Vårretreat - tema - ett vänligare sinne
DESCRIPTION:OBS FULLBOKAD! \nVarmt välkommen till en lyxig heldag med yoga\, meditation och pranayama i vår fantastiska yogastudio\, vandring i vår sagolika skog och god vällagad vegetarisk\, glutenfri lunch och fika (ekologiska råvaror av högsta kvalitet). Råvarorna väljs utifrån årstiden och vad som stärker kroppen bäst. Temat för dagen är ett vänligare sinne. Många av oss har en vana att vara kritiska i tanken både mot oss själva och andra. Särskilt hårda är många mot sig själv. Under dagen tränar vi oss på att möta oss själva med en vänlig\, öppen\, nyfiken och kärleksfull attityd. Att möta sig själv på detta sätt sänker stressnivån och hjälper oss att hantera utmanande situationer i livet. \nVi startar dagen klockan 10.00 i vår studio på Grevlunda Backar med ett mjukt skönt hathayoga pass som avslutas med pranayama och meditation. Därefter serveras lunch i vårt brygghus. Efter lunchen beger vi oss ut på en promenad i vår sagoskog. Vandringen är ca 4 kilometer lång och den är relativt lättvandrad. Exakt hur lång vandringen blir och hur den läggs upp (eventuella stopp) avgörs av väderleken. När vi kommer tillbaka bjuds det på fika och därefter blir det yinyoga och meditation i vår vackra yogalokal. Dagen avslutas ca 17.00. \nMadeleine som guidar dagen har 500 ++ timmars yogalärarutbildning\, certifierad enligt Yoga Alliance. Hon är även utbildad psykosyntesterapeut\, rosenterapeut\, skogsbadsguide och uteyogalärarcoach. Hon har en daglig meditationspraktik (Vipassana) och åker på tysta retreater flera gånger per år. Hon har tidigare arbetat som terapeut på heltid under 10 år\, och är författare till åtta böcker om personlig utveckling och ledarskap. \n”Stort tack för en fantastisk dag! Känslan av lugn och harmoni sitter i och jag längtar tills på onsdag då det blir yinyoga. Han en fin dag ” Marlene \n”Stort tack för en jättefin dag! Jag uppskattade ditt yogapass mycket\, maten var god och du bjöd på en fantastisk vandring. Tack” Karin \nAnmälan sker till madeleine@businessinspiration.se och betalning 1095 kr till swishnr 1233769288 (Business Inspiration). När betalningen är gjord är platsen bokad och garanterad. Märk betalningen med ditt namn och vilket evenemang som anmälan avser. Uppge om du har någon eventuell matallergi vid anmälan. Ha mjuka kläder att yoga i. Det finns mattor och hjälpmedel att låna. Om du vill ha egen matta med dig\, är du välkommen att ta med din egen. \nVi har mjukat upp SAUFs (Sveriges auktoriserade utbildningsföretag) standardregler för avbokning av öppen kurs. Detta innebär att din anmälan är bindande så snart du har fått en bekräftelse skickad till dig. Vid avbokning 14-8 dagar före kursstart debiteras 50% av kursavgiften. Vid avbokning och icke-deltagande utan avbokning 7-0 dagar före kursstart debiteras 100% av kursavgiften. Du kan överlåta din plats till annan deltagare. Meddela oss isf så vi vet vem som kommer 😊. Ställs kursen in betalar vi tillbaka din inbetalning.
URL:https://www.grevlundayoga.se/event/varretreat-tema-ett-vanligare-sinne/
LOCATION:Grevlunda Backar\, Grevlunda Backaväg 8\, Vitaby\, Skåne\, 27736\, Sverige
CATEGORIES:Yoga
ATTACH;FMTTYPE=image/jpeg:https://www.grevlundayoga.se/wp-content/uploads/2023/11/Madeleine-meditation-hemsida.jpg
ORGANIZER;CN="Grevlunda Yoga":MAILTO:madeleine@businessinspiration.se
END:VEVENT
END:VCALENDAR