BEGIN:VCALENDAR
VERSION:2.0
PRODID:-//Grevlunda Yoga på Österlen - ECPv6.15.20//NONSGML v1.0//EN
CALSCALE:GREGORIAN
METHOD:PUBLISH
X-ORIGINAL-URL:https://www.grevlundayoga.se
X-WR-CALDESC:Händelser för Grevlunda Yoga på Österlen
REFRESH-INTERVAL;VALUE=DURATION:PT1H
X-Robots-Tag:noindex
X-PUBLISHED-TTL:PT1H
BEGIN:VTIMEZONE
TZID:Europe/Stockholm
BEGIN:DAYLIGHT
TZOFFSETFROM:+0100
TZOFFSETTO:+0200
TZNAME:CEST
DTSTART:20230326T010000
END:DAYLIGHT
BEGIN:STANDARD
TZOFFSETFROM:+0200
TZOFFSETTO:+0100
TZNAME:CET
DTSTART:20231029T010000
END:STANDARD
BEGIN:DAYLIGHT
TZOFFSETFROM:+0100
TZOFFSETTO:+0200
TZNAME:CEST
DTSTART:20240331T010000
END:DAYLIGHT
BEGIN:STANDARD
TZOFFSETFROM:+0200
TZOFFSETTO:+0100
TZNAME:CET
DTSTART:20241027T010000
END:STANDARD
BEGIN:DAYLIGHT
TZOFFSETFROM:+0100
TZOFFSETTO:+0200
TZNAME:CEST
DTSTART:20250330T010000
END:DAYLIGHT
BEGIN:STANDARD
TZOFFSETFROM:+0200
TZOFFSETTO:+0100
TZNAME:CET
DTSTART:20251026T010000
END:STANDARD
END:VTIMEZONE
BEGIN:VEVENT
DTSTART;TZID=Europe/Stockholm:20240304T180000
DTEND;TZID=Europe/Stockholm:20240304T191500
DTSTAMP:20260423T003953
CREATED:20240212T083542Z
LAST-MODIFIED:20240212T083656Z
UID:1537-1709575200-1709579700@www.grevlundayoga.se
SUMMARY:Hatha Yoga kurs
DESCRIPTION:Vill du fördjupa dina kunskaper i Hatha yoga eller är du ny till yogan och vill lära dig grunderna? Du kanske bara vill komma på ett skönt yoga pass? Oavsett vilket så passar den här kursen dig. Med hjälp av Hatha yogan så bygger du styrka samtidigt som du ökar rörligheten. Samtidigt får du verktyg för att stilla ditt sinne och öka ditt välbefinnande. \nBjörn har 500 timmars yogalärarutbildning och har specialiserat sig på Hatha yoga som han brinner för. Björn guidar dig tryggt genom yogapasset oavsett vilken nivå du är på. \nKursen startar den 4 mars 2024 kl. 18.00-19.15 och fortsätter under de följande måndagarna 11/3\, 18/3\, 25/3\, 8/4 så totalt är det 5 tillfällen vi ses. Observera att det är ett uppehåll på annandag påsk (1/4). Vi träffas i en och samma grupp under alla måndagar. Varje pass är unikt och uppbyggt kring ett specifikt tema för att du ska lära dig så mycket som möjligt. Anmälan görs via mail till bjorn@businessinspiration.se och din investering för hela kursen är 695 kronor. \n”Var på invigningspass med Björn och kommer mer än gärna tillbaka! Och så vackert gården ligger!” \n\n”Vackert belägen yogastudio med trevlig och erfaren yogaledare. Jag kan varmt rekommendera att delta i yogapass här.”
URL:https://www.grevlundayoga.se/event/hatha-yoga-kurs-4/
LOCATION:Grevlunda Backar\, Grevlunda Backaväg 8\, Vitaby\, Skåne\, 27736\, Sverige
CATEGORIES:Yoga
ATTACH;FMTTYPE=image/jpeg:https://www.grevlundayoga.se/wp-content/uploads/2023/07/Yoga-e1690009010613.jpg
ORGANIZER;CN="Grevlunda Yoga":MAILTO:madeleine@businessinspiration.se
END:VEVENT
BEGIN:VEVENT
DTSTART;TZID=Europe/Stockholm:20240309T100000
DTEND;TZID=Europe/Stockholm:20240309T160000
DTSTAMP:20260423T003953
CREATED:20230917T121128Z
LAST-MODIFIED:20240302T072853Z
UID:1372-1709978400-1710000000@www.grevlundayoga.se
SUMMARY:Yinyoga fördjupningsdag - träelementet
DESCRIPTION:EN PLATS KVAR! \nFör dig som vill lära dig mer om yinyoga finns nu denna heldagsfördjupning. Tanken är att du efter dagen ska ha kunskap och inspiration att göra yinyoga hemma. I vacker miljö\, i en härlig gemenskap och med god hälsosam vegetarisk glutenfri mat får du lära dig mer om grunderna i yinyoga\, mer om alla positiva effekter och hur du kan anpassa positionerna efter din kropp. Du kommer att få två pass att ta med dig hem. Passen kommer tillsammans med en sammanfattning av teorin i ett sexsidigt häfte. Inga förkunskaper krävs. Maten vi lagar är baserad på närodlade ekologiska råvaror av högsta kvalitet och de rätter vi serverar väljs utifrån årstiden och vad som stärker kroppen bäst under innevarande säsong. \nFörutom att öka rörligheten och hjälpa kroppen att varva ner\, fungerar yinyoga som akupunktur utan nålar. Enligt traditionell kinesisk medicin\, TCM\, dominerar trä-elementet under våren. Det är kopplat till leverns och gallblåsans meridianer. \nUnder dagen får du lära dig mer om yinyoga och fördjupa dig i träelementet och hur du kan anpassa yinyogan efter naturens naturliga rytm. Enligt TCM (Traditionell Kinesisk medicin) bör man leva i harmoni med naturen och följa årstidsväxlingarna för att själv vara i balans och hålla sig frisk. Här kan du läsa mer om Madeleine som leder dagen Om oss – Grevlunda Yoga på Österlen. \n”Tack för en härlig och avkopplande dag! Din yinyogautbildning var helt suverän! Kommer att prioritera att lägga tid på yogan och passar ju bra att börja på semestern :).” Monica deltagare på yinyoga fördjupningsdag \n”-ligt TACK för en fantastisk dag\, med yinyoga\, intressant teori o magiskt god mat! Bästa betyg till er!” Pia deltagare på yinyoga fördjupningsdag \nAnmälan sker till madeleine@businessinspiration.se och betalning 1095 kr till swishnr 1233769288 (Business Inspiration Sweden AB). När betalningen är gjord är platsen bokad och garanterad. Märk betalningen med ditt namn och vilket evenemang som anmälan avser. Uppge om du har någon eventuell matallergi vid anmälan. Ha mjuka kläder att yoga i. Det finns mattor och hjälpmedel att låna. Om du vill ha egen matta med dig\, är du välkommen att ta med din egen. \nVi har mjukat upp SAUFs (Sveriges auktoriserade utbildningsföretag) standardregler för avbokning av öppen kurs. Detta innebär att din anmälan är bindande så snart du har fått en bekräftelse skickad till dig. Vid avbokning 14-8 dagar före kursstart debiteras 50% av kursavgiften. Vid avbokning och icke-deltagande utan avbokning 7-0 dagar före kursstart debiteras 100% av kursavgiften. Du kan överlåta din plats till annan deltagare. Meddela oss isf så vi vet vem som kommer 😊. Ställs kursen in betalar vi tillbaka din inbetalning.
URL:https://www.grevlundayoga.se/event/yinyoga-fordjupningsdag-traelementet-2/
LOCATION:Skåne
CATEGORIES:Yoga
ATTACH;FMTTYPE=image/jpeg:https://www.grevlundayoga.se/wp-content/uploads/2022/11/traelementet.jpg
ORGANIZER;CN="Grevlunda Yoga":MAILTO:madeleine@businessinspiration.se
END:VEVENT
BEGIN:VEVENT
DTSTART;TZID=Europe/Stockholm:20240330T090000
DTEND;TZID=Europe/Stockholm:20240330T101500
DTSTAMP:20260423T003953
CREATED:20240219T121356Z
LAST-MODIFIED:20240219T121356Z
UID:1547-1711789200-1711793700@www.grevlundayoga.se
SUMMARY:Påskyoga - Hathayoga flow
DESCRIPTION:Påskafton och påskdagen kl 9.00 till 10.15 erbjuder vi påskyoga. Varmt välkommen att väcka kroppen med ett hathayoga flow. Guidning med fokus på att lära känna din kropp och röra dig i takt med ditt andetag. Vacker studio i sagolik miljö. Mattor och hjälpmedel finns att låna. Passar alla nivåer då du kan modifiera positionerna. 180 kronor. Läs mer och boka TimeCenter Varmt välkommen 🙂
URL:https://www.grevlundayoga.se/event/paskyoga-hathayoga-flow/
LOCATION:Grevlunda Backar\, Grevlunda Backaväg 8\, Vitaby\, Skåne\, 27736\, Sverige
CATEGORIES:Yoga
ATTACH;FMTTYPE=image/jpeg:https://www.grevlundayoga.se/wp-content/uploads/2023/10/Sommaryoga-scaled.jpg
ORGANIZER;CN="Grevlunda Yoga":MAILTO:madeleine@businessinspiration.se
END:VEVENT
END:VCALENDAR