BEGIN:VCALENDAR
VERSION:2.0
PRODID:-//Grevlunda Yoga på Österlen - ECPv6.15.20//NONSGML v1.0//EN
CALSCALE:GREGORIAN
METHOD:PUBLISH
X-ORIGINAL-URL:https://www.grevlundayoga.se
X-WR-CALDESC:Händelser för Grevlunda Yoga på Österlen
REFRESH-INTERVAL;VALUE=DURATION:PT1H
X-Robots-Tag:noindex
X-PUBLISHED-TTL:PT1H
BEGIN:VTIMEZONE
TZID:Europe/Stockholm
BEGIN:DAYLIGHT
TZOFFSETFROM:+0100
TZOFFSETTO:+0200
TZNAME:CEST
DTSTART:20220327T010000
END:DAYLIGHT
BEGIN:STANDARD
TZOFFSETFROM:+0200
TZOFFSETTO:+0100
TZNAME:CET
DTSTART:20221030T010000
END:STANDARD
BEGIN:DAYLIGHT
TZOFFSETFROM:+0100
TZOFFSETTO:+0200
TZNAME:CEST
DTSTART:20230326T010000
END:DAYLIGHT
BEGIN:STANDARD
TZOFFSETFROM:+0200
TZOFFSETTO:+0100
TZNAME:CET
DTSTART:20231029T010000
END:STANDARD
BEGIN:DAYLIGHT
TZOFFSETFROM:+0100
TZOFFSETTO:+0200
TZNAME:CEST
DTSTART:20240331T010000
END:DAYLIGHT
BEGIN:STANDARD
TZOFFSETFROM:+0200
TZOFFSETTO:+0100
TZNAME:CET
DTSTART:20241027T010000
END:STANDARD
END:VTIMEZONE
BEGIN:VEVENT
DTSTART;TZID=Europe/Stockholm:20231009T180000
DTEND;TZID=Europe/Stockholm:20231009T191500
DTSTAMP:20260423T135248
CREATED:20230913T140606Z
LAST-MODIFIED:20230913T140606Z
UID:1357-1696874400-1696878900@www.grevlundayoga.se
SUMMARY:Hatha Yoga kurs
DESCRIPTION:Vill du fördjupa dina kunskaper i Hatha yoga eller är du ny till yogan och vill lära dig grunderna? Du kanske bara vill komma på ett skönt yoga pass? Oavsett vilket så passar den här kursen dig. Med hjälp av Hatha yogan så bygger du styrka samtidigt som du ökar rörligheten. Samtidigt får du verktyg för att stilla ditt sinne och öka ditt välbefinnande.\n\nBjörn har 500 timmars yogalärarutbildning och har specialiserat sig på Hatha yoga som han brinner för. Björn guidar dig tryggt genom yogapasset oavsett vilken nivå du är på.\n\nKursen startar den 9 oktober kl. 18.00-19.15 och fortsätter under de efterföljande måndagarna 16/9\, 23/9\, 30/9\, 6/11 så totalt är det 5 tillfällen vi ses. Vi träffas i en och samma grupp under alla måndagar. Varje pass är unikt och uppbyggt kring ett specifikt tema för att du ska lära dig så mycket som möjligt. Anmälan görs via mail till bjorn@businessinspiration.se och din investering för hela kursen är 695 kronor.\n\n”Var på invigningspass med Björn och kommer mer än gärna tillbaka! Och så vackert gården ligger!”\n\n”Vackert belägen yogastudio med trevlig och erfaren yogaledare. Jag kan varmt rekommendera att delta i yogapass här.”
URL:https://www.grevlundayoga.se/event/hatha-yoga-kurs-2/
LOCATION:Grevlunda Backar\, Grevlunda Backaväg 8\, Vitaby\, Skåne\, 27736\, Sverige
CATEGORIES:Yoga
ATTACH;FMTTYPE=image/jpeg:https://www.grevlundayoga.se/wp-content/uploads/2023/07/Yoga-e1690009010613.jpg
ORGANIZER;CN="Grevlunda Yoga":MAILTO:madeleine@businessinspiration.se
END:VEVENT
BEGIN:VEVENT
DTSTART;TZID=Europe/Stockholm:20231010T180000
DTEND;TZID=Europe/Stockholm:20231010T191500
DTSTAMP:20260423T135248
CREATED:20230913T143404Z
LAST-MODIFIED:20230913T144227Z
UID:1364-1696960800-1696965300@www.grevlundayoga.se
SUMMARY:Yinyoga kurs - fem tisdagar kl. 18.00-19.15
DESCRIPTION:Vill du lära dig mer om yinyoga så att du har kunskap och inspiration att få in denna fantastiska yoga i ditt dagliga liv? Med hjälp av yinyogan ökar du rörligheten\, balanserar ett aktivt liv\, blir mer medvetet närvarande samtidigt som yinyogan fungerar som akupunktur utan nålar.\n\nMadeleine har 500 plus timmars yogalärarutbildning\, varav 200 timmar är yinyogalärarutbildning. Du får lära dig en funktionell yinyoga och lär dig lyssna på din kropp och anpassa yogan efter dina egna förutsättningar.\n\nUnder fem tisdagar får du lära dig mer om yinyoga. Vi träffas i en och samma grupp kl 18.00-19.15 fem tisdagar i rad med början den 10 oktober. Varje pass är unikt och uppbyggt kring ett specifikt tema. Anmälan till madeleine@businessinspiration.se och din investering för hela kursen är 695 kronor.\n\n”Vackert belägen yogastudio med trevlig och erfaren yogaledare. Jag kan varmt rekommendera att delta i yogapass här.”\n\n”Härlig miljö! Madeleine röst är fantastisk och hela upplevelsen var såå härlig och fick mig att komma till ro i julveckan.”
URL:https://www.grevlundayoga.se/event/yinyoga-kurs-fem-tisdagar-kl-18-19-15/
LOCATION:Skåne
CATEGORIES:Yoga
ATTACH;FMTTYPE=image/jpeg:https://www.grevlundayoga.se/wp-content/uploads/2023/07/yinyoga-kurs.jpg
END:VEVENT
END:VCALENDAR