BEGIN:VCALENDAR
VERSION:2.0
PRODID:-//Grevlunda Yoga på Österlen - ECPv6.15.20//NONSGML v1.0//EN
CALSCALE:GREGORIAN
METHOD:PUBLISH
X-WR-CALNAME:Grevlunda Yoga på Österlen
X-ORIGINAL-URL:https://www.grevlundayoga.se
X-WR-CALDESC:Händelser för Grevlunda Yoga på Österlen
REFRESH-INTERVAL;VALUE=DURATION:PT1H
X-Robots-Tag:noindex
X-PUBLISHED-TTL:PT1H
BEGIN:VTIMEZONE
TZID:Europe/Stockholm
BEGIN:DAYLIGHT
TZOFFSETFROM:+0100
TZOFFSETTO:+0200
TZNAME:CEST
DTSTART:20220327T010000
END:DAYLIGHT
BEGIN:STANDARD
TZOFFSETFROM:+0200
TZOFFSETTO:+0100
TZNAME:CET
DTSTART:20221030T010000
END:STANDARD
BEGIN:DAYLIGHT
TZOFFSETFROM:+0100
TZOFFSETTO:+0200
TZNAME:CEST
DTSTART:20230326T010000
END:DAYLIGHT
BEGIN:STANDARD
TZOFFSETFROM:+0200
TZOFFSETTO:+0100
TZNAME:CET
DTSTART:20231029T010000
END:STANDARD
BEGIN:DAYLIGHT
TZOFFSETFROM:+0100
TZOFFSETTO:+0200
TZNAME:CEST
DTSTART:20240331T010000
END:DAYLIGHT
BEGIN:STANDARD
TZOFFSETFROM:+0200
TZOFFSETTO:+0100
TZNAME:CET
DTSTART:20241027T010000
END:STANDARD
END:VTIMEZONE
BEGIN:VEVENT
DTSTART;TZID=Europe/Stockholm:20230821T180000
DTEND;TZID=Europe/Stockholm:20230821T191500
DTSTAMP:20260423T205619
CREATED:20230722T060419Z
LAST-MODIFIED:20230727T062831Z
UID:1309-1692640800-1692645300@www.grevlundayoga.se
SUMMARY:Hatha Yoga kurs
DESCRIPTION:Vill du fördjupa dina kunskaper i Hatha yoga eller är du ny till yogan och vill lära dig grunderna? Du kanske bara vill komma på ett skönt yoga pass? Oavsett vilket så passar den här kursen dig. Med hjälp av Hatha yogan så bygger du styrka samtidigt som du ökar rörligheten. Samtidigt får du verktyg för att stilla ditt sinne och öka ditt välbefinnande.\n\n\nBjörn har 500 timmars yogalärarutbildning och har specialiserat sig på Hatha yoga som han brinner för. Björn guidar dig tryggt genom yogapasset oavsett vilken nivå du är på.\n\n\nKursen startar den 21 augusti kl. 18.00-19.15 och pågår under följande fem måndagar 21/8\, 28/8\, 4/9\, 11/9 och 25/9. Vi träffas i en och samma grupp under alla måndagar. Varje pass är unikt och uppbyggt kring ett specifikt tema för att du ska lära dig så mycket som möjligt. Anmälan till bjorn@businessinspiration.se och din investering för hela kursen är 695 kronor.\n\n\n”Var på invigningspass med Björn och kommer mer än gärna tillbaka! Och så vackert gården ligger!”\n\n\n”Vackert belägen yogastudio med trevlig och erfaren yogaledare. Jag kan varmt rekommendera att delta i yogapass här.”\n\n 
URL:https://www.grevlundayoga.se/event/hatha-yoga-kurs/
LOCATION:Grevlunda Backar\, Grevlunda Backaväg 8\, Vitaby\, Skåne\, 27736\, Sverige
CATEGORIES:Yoga
ATTACH;FMTTYPE=image/jpeg:https://www.grevlundayoga.se/wp-content/uploads/2023/07/Yoga-e1690009010613.jpg
ORGANIZER;CN="Grevlunda Yoga":MAILTO:madeleine@businessinspiration.se
END:VEVENT
BEGIN:VEVENT
DTSTART;TZID=Europe/Stockholm:20230827T100000
DTEND;TZID=Europe/Stockholm:20230827T153000
DTSTAMP:20260423T205619
CREATED:20230405T092949Z
LAST-MODIFIED:20230712T100057Z
UID:1229-1693130400-1693150200@www.grevlundayoga.se
SUMMARY:Yogavandring Haväng/Vitemölla tema självmedkänsla
DESCRIPTION:OBS FULLBOKAT! \nVarmt välkommen till en underbar dag i naturen med yoga\, vandring\, pranayama\, meditation och lunch/fika-stunder med vackra vyer. Vi samlas på den allmänna strandparkeringen vid Haväng (precis vid STF vandrarhem Haväng) klockan 10.00 och återkommer till samma plats ca 15.30. Vandringen börjar längs havet söderut och vi stannar och yogar ett par gånger med havet i blickfånget. Tillbakavägen går genom ängar\, skog och kohagar. Vi stannar för att fika i kanten av en skogsdunge och där ägnar vi en stund åt pranayama och meditation. Vandringen är 8-9 km lång. Relativt lättvandrat i en sagolik miljö. Temat för dagen är självmedkänsla. Begränsat antal deltagare. \nAnmälan sker via e-post till madeleine@businessinspiration.se och betalning 595 kr till swishnr 1233769288 (Business Inspiration). När betalningen är gjord är platsen bokad. Bekväma kläder efter väder. Medtag yogamatta samt lunch\, fika och vatten. Badkläder kan också komma väl till pass. \nVi har mjukat upp SAUFs (Sveriges auktoriserade utbildningsföretag) standardregler för avbokning av öppen kurs. Detta innebär att din anmälan är bindande så snart du har fått en bekräftelse skickad till dig. Vid avbokning 14-8 dagar före kursstart debiteras 50% av kursavgiften. Vid avbokning och icke-deltagande utan avbokning 7-0 dagar före kursstart debiteras 100% av kursavgiften. Du kan överlåta din plats till annan deltagare. Meddela oss isf så vi vet vem som kommer 😊. Ställs kursen in betalar vi tillbaka din inbetalning.\n\n\n\n\n Lägg till i kalender
URL:https://www.grevlundayoga.se/event/yogavandring-havang-vitemolla-tema-sjalvmedkansla/
LOCATION:Haväng\, Haväng\, Haväng\, Sverige
CATEGORIES:Yoga
ATTACH;FMTTYPE=image/jpeg:https://www.grevlundayoga.se/wp-content/uploads/2023/04/Yogavandring-compassion.jpg
ORGANIZER;CN="Grevlunda Yoga":MAILTO:madeleine@businessinspiration.se
END:VEVENT
END:VCALENDAR