BEGIN:VCALENDAR
VERSION:2.0
PRODID:-//Grevlunda Yoga på Österlen - ECPv6.15.20//NONSGML v1.0//EN
CALSCALE:GREGORIAN
METHOD:PUBLISH
X-WR-CALNAME:Grevlunda Yoga på Österlen
X-ORIGINAL-URL:https://www.grevlundayoga.se
X-WR-CALDESC:Händelser för Grevlunda Yoga på Österlen
REFRESH-INTERVAL;VALUE=DURATION:PT1H
X-Robots-Tag:noindex
X-PUBLISHED-TTL:PT1H
BEGIN:VTIMEZONE
TZID:Europe/Stockholm
BEGIN:DAYLIGHT
TZOFFSETFROM:+0100
TZOFFSETTO:+0200
TZNAME:CEST
DTSTART:20240331T010000
END:DAYLIGHT
BEGIN:STANDARD
TZOFFSETFROM:+0200
TZOFFSETTO:+0100
TZNAME:CET
DTSTART:20241027T010000
END:STANDARD
BEGIN:DAYLIGHT
TZOFFSETFROM:+0100
TZOFFSETTO:+0200
TZNAME:CEST
DTSTART:20250330T010000
END:DAYLIGHT
BEGIN:STANDARD
TZOFFSETFROM:+0200
TZOFFSETTO:+0100
TZNAME:CET
DTSTART:20251026T010000
END:STANDARD
BEGIN:DAYLIGHT
TZOFFSETFROM:+0100
TZOFFSETTO:+0200
TZNAME:CEST
DTSTART:20260329T010000
END:DAYLIGHT
BEGIN:STANDARD
TZOFFSETFROM:+0200
TZOFFSETTO:+0100
TZNAME:CET
DTSTART:20261025T010000
END:STANDARD
END:VTIMEZONE
BEGIN:VEVENT
DTSTART;TZID=Europe/Stockholm:20250816T100000
DTEND;TZID=Europe/Stockholm:20250816T170000
DTSTAMP:20260423T144218
CREATED:20250319T115454Z
LAST-MODIFIED:20250731T101104Z
UID:1940-1755338400-1755363600@www.grevlundayoga.se
SUMMARY:Sommarretreat med tema glädje
DESCRIPTION:OBS FULLBOKAD! \nVarmt välkommen till en underbar heldagsretreat med fokus på GLÄDJE. Under hela dagen guidas du för att påminna dig om när ditt hjärta sjunger och du får ta del av meditationer och övningar för att stärka och öka glädjen i ditt liv. \nVi samlas klockan tio och under förmiddagen vandrar vi tillsammans i den vackra skogen som finns precis runt hörnet och använder den förundrande vackra grönskan i kombination med yoga\, andning och guidade meditationer för att komma i kontakt med den sinnliga glädjen. Vandringen är relativt enkel och rundan är cirka 4 kilometer. När vi är tillbaka serveras det lunch i vår vackra matsal\, eller utomhus om vädret tillåter. Maten vi lagar är vegetarisk och glutenfri baserad på närodlade ekologiska råvaror av högsta kvalitet och de rätter vi serverar väljs utifrån årstiden och vad som stärker kroppen bäst under innevarande säsong. I den mån det går använder vi grönsaker från den egna odlingen som är helt giftfri. \nEfter lunchen guidas du igenom mjuka rörelser\, andning\, guidade meditationer och ett långt skönt yinyogapass för att stärka den mer djupa glädjen som är oberoende av sinnena och att vi får det precis som vi önskar. Under eftermiddagen bjuds det på fika. Glädje är hjärtats känsla och för att stärka hjärtat serverar vi ceremoniell kakao och en smarrig kakaokaka. Kakan är bakad med kärlek från nyttiga och ekologiska råvaror helt utan gluten\, mjölk och raffinerat socker. Dagen avslutas ca 17.00. \nPreliminärt schema: \n\n10-12.30 Yogavandring\, ca 4 kilometer med yoga\, andning och meditation för att stärka glädjen\n12.30-13.30 Lunch\n13.30-14.30 Mjuka rörelser\, andning och guidad meditation\n14.30-15.00 Fika med ceremoniell kakao och kakaokaka\n15.00-16.45 Yinyoga med avslutande meditation\n16.45-17.00 Avslutning\n\nMadeleine som guidar dagen har 500 ++ timmars yogalärarutbildning\, certifierad enligt Yoga Alliance. Hon är även utbildad psykosyntesterapeut\, rosenterapeut\, skogsbadsguide och uteyogalärarcoach. Hon har en daglig meditationspraktik (Vipassana) och åker på tysta retreater flera gånger per år. Hon har tidigare arbetat som terapeut på heltid under 10 år\, och är författare till åtta böcker om personlig utveckling och ledarskap. \n”Tack för en mycket fin dag! Bra yoga\, god mat och framförallt den av dig givande vägledningen under meditation och reflektion under vandring i vårgrönskande skog. De tankar du väckte kommer ofta tillbaka till mig nu efteråt. Vi ses på sommaryogan!” Många hälsningar Karolina \n”STORT\, TACK! För en fantastisk dag\, i lördags. SÅ Bra och inspirerande. Med underbar mat i ert Paradis! Kommer gärna tillbaka.” Kram Madeleine/Morris \n”Stort tack för en jättefin dag! Jag uppskattade ditt yogapass mycket\, maten var god och du bjöd på en fantastisk vandring. Tack” Karin \nAnmälan sker till madeleine@businessinspiration.se och betalning 1150 kr till swishnr 1233769288 (Business Inspiration Sweden AB). När betalningen är gjord är platsen bokad och garanterad. Märk betalningen med ditt namn och vilket evenemang som anmälan avser. Uppge om du har någon eventuell matallergi vid anmälan. Ha mjuka kläder att yoga i. Det finns mattor och hjälpmedel att låna. Om du vill ha egen matta med dig\, är du välkommen att ta med din egen. \nVi har mjukat upp SAUFs (Sveriges auktoriserade utbildningsföretag) standardregler för avbokning av öppen kurs. Detta innebär att din anmälan är bindande så snart du har fått en bekräftelse skickad till dig. Vid avbokning 14-8 dagar före kursstart debiteras 50% av kursavgiften. Vid avbokning och icke-deltagande utan avbokning 7-0 dagar före kursstart debiteras 100% av kursavgiften. Du kan överlåta din plats till annan deltagare. Meddela oss isf så vi vet vem som kommer 😊. Ställs kursen in betalar vi tillbaka din inbetalning.
URL:https://www.grevlundayoga.se/event/sommarretreat-med-tema-gladje/
LOCATION:Grevlunda Backar\, Grevlunda Backaväg 8\, Vitaby\, Skåne\, 27736\, Sverige
CATEGORIES:workshops,Yoga
ATTACH;FMTTYPE=image/jpeg:https://www.grevlundayoga.se/wp-content/uploads/2025/01/vargronskande-retreat.jpg
ORGANIZER;CN="Grevlunda Yoga":MAILTO:madeleine@businessinspiration.se
END:VEVENT
BEGIN:VEVENT
DTSTART;TZID=Europe/Stockholm:20250830T100000
DTEND;TZID=Europe/Stockholm:20250830T160000
DTSTAMP:20260423T144218
CREATED:20250303T123227Z
LAST-MODIFIED:20250706T143833Z
UID:1934-1756548000-1756569600@www.grevlundayoga.se
SUMMARY:Yogavandring Haväng - Vitemölla tema "Mera GLÄDJE i livet"
DESCRIPTION:OBS FULLBOKAD! \nVarmt välkommen till en underbar dag i naturen med yoga\, vandring\, pranayama\, meditation och lunch/fika-stunder med vackra vyer. Temat för dagen är ”mer glädje i livet”. Under yogan fokuserar vi på vad som får hjärtat att sjunga och öppnar upp hjärtats och tunntarmens meridianer som representerar sommaren element (eld) enligt traditionell kinesisk medicin. Du får också ta del av flera guidade meditationer och övningar som hjälper dig att öka glädjen i livet. \nVi samlas på den allmänna strandparkeringen vid Haväng (precis vid STF vandrarhem Haväng) klockan 10.00 och återkommer till samma plats ca 16.00. Vandringen börjar längs havet söderut och vi stannar och yogar/mediterar flera gånger med havet i blickfånget. Tillbakavägen går genom ängar\, skog och kohagar. Vi stannar för att fika i kanten av en skogsdunge och där ägnar vi en stund åt pranayama och meditation. Vandringen är 8 km lång\, och relativt lättvandrad. Miljön är sagolikt vacker. Begränsat antal deltagare. \nMadeleine som är guide är utbildad yogalärare inom flera discipliner\, uteyogacoach\, skogsbadsguide\, psykosyntesterapeut\, rosenterapeut och har lång erfarenhet av att arbeta med grupper och gruppdynamik. Hon har också en daglig meditationspraktik (Vipassana) och åker kontinuerligt på tysta retreater för att fylla på och hämta inspiration. Hon är också författare till åtta böcker inom personlig utveckling och ledarskap. Hon hämtar inspiration från alla delar av sitt arbete. En viktig del är att alla ska känna sig välkomna och vara del av en varm gemenskap. \nBjörn är co-guide och är utbildad yogalärare med fokus på hathayoga. Han är också utbildad psykosyntes coach och van att leda grupper. \n“Jag har varit på flera olika yogavandringar och Madeleine & Björns är i en klass för sig. Omsorgsfullt valda platser i naturen\, alltid balans mellan vandring\, yoga\, meditation och mat. Samtidigt oerhört professionellt och avslappnat. Helt enkelt underbart för kropp och själ!” Therese S \nAnmälan sker via e-post till madeleine@businessinspiration.se och betalning 695 kr till swishnr 1233769288 (Business Inspiration Sweden AB). När betalningen är gjord är platsen bokad. Bekväma kläder efter väder. Medtag yogamatta samt lunch\, fika och vatten. Badkläder kan också komma väl till pass. \nVi har mjukat upp SAUFs (Sveriges auktoriserade utbildningsföretag) standardregler för avbokning av öppen kurs. Detta innebär att din anmälan är bindande så snart du har fått en bekräftelse skickad till dig. Vid avbokning 14-8 dagar före kursstart debiteras 50% av kursavgiften. Vid avbokning och icke-deltagande utan avbokning 7-0 dagar före kursstart debiteras 100% av kursavgiften. Du kan överlåta din plats till annan deltagare. Meddela oss isf så vi vet vem som kommer 😊. Ställs kursen in betalar vi tillbaka din inbetalning.
URL:https://www.grevlundayoga.se/event/yogavandring-havang-vitemolla-tema-mera-gladje-i-livet-2/
LOCATION:Haväng\, Haväng\, Haväng\, Sverige
CATEGORIES:Yoga
ATTACH;FMTTYPE=image/jpeg:https://www.grevlundayoga.se/wp-content/uploads/2023/04/Yogavandring-compassion.jpg
ORGANIZER;CN="Grevlunda Yoga":MAILTO:madeleine@businessinspiration.se
END:VEVENT
END:VCALENDAR