BEGIN:VCALENDAR
VERSION:2.0
PRODID:-//Grevlunda Yoga på Österlen - ECPv6.15.18//NONSGML v1.0//EN
CALSCALE:GREGORIAN
METHOD:PUBLISH
X-WR-CALNAME:Grevlunda Yoga på Österlen
X-ORIGINAL-URL:https://www.grevlundayoga.se
X-WR-CALDESC:Händelser för Grevlunda Yoga på Österlen
REFRESH-INTERVAL;VALUE=DURATION:PT1H
X-Robots-Tag:noindex
X-PUBLISHED-TTL:PT1H
BEGIN:VTIMEZONE
TZID:Europe/Stockholm
BEGIN:DAYLIGHT
TZOFFSETFROM:+0100
TZOFFSETTO:+0200
TZNAME:CEST
DTSTART:20240331T010000
END:DAYLIGHT
BEGIN:STANDARD
TZOFFSETFROM:+0200
TZOFFSETTO:+0100
TZNAME:CET
DTSTART:20241027T010000
END:STANDARD
BEGIN:DAYLIGHT
TZOFFSETFROM:+0100
TZOFFSETTO:+0200
TZNAME:CEST
DTSTART:20250330T010000
END:DAYLIGHT
BEGIN:STANDARD
TZOFFSETFROM:+0200
TZOFFSETTO:+0100
TZNAME:CET
DTSTART:20251026T010000
END:STANDARD
BEGIN:DAYLIGHT
TZOFFSETFROM:+0100
TZOFFSETTO:+0200
TZNAME:CEST
DTSTART:20260329T010000
END:DAYLIGHT
BEGIN:STANDARD
TZOFFSETFROM:+0200
TZOFFSETTO:+0100
TZNAME:CET
DTSTART:20261025T010000
END:STANDARD
END:VTIMEZONE
BEGIN:VEVENT
DTSTART;TZID=Europe/Stockholm:20250628T100000
DTEND;TZID=Europe/Stockholm:20250628T160000
DTSTAMP:20260421T012243
CREATED:20250207T142112Z
LAST-MODIFIED:20250513T102113Z
UID:1922-1751104800-1751126400@www.grevlundayoga.se
SUMMARY:Yogavandring Haväng - Vitemölla tema "Mera GLÄDJE i livet"
DESCRIPTION:OBS FULLBOKAD! \nVarmt välkommen till en underbar dag i naturen med yoga\, vandring\, pranayama\, meditation och lunch/fika-stunder med vackra vyer. Temat för dagen är ”mer glädje i livet”. Under yogan fokuserar vi på vad som får hjärtat att sjunga och öppnar upp hjärtats och tunntarmens meridianer som representerar sommaren element (eld) enligt traditionell kinesisk medicin. Du får också ta del av flera guidade meditationer och övningar som hjälper dig att öka glädjen i livet. \nVi samlas på den allmänna strandparkeringen vid Haväng (precis vid STF vandrarhem Haväng) klockan 10.00 och återkommer till samma plats ca 16.00. Vandringen börjar längs havet söderut och vi stannar och yogar/mediterar flera gånger med havet i blickfånget. Tillbakavägen går genom ängar\, skog och kohagar. Vi stannar för att fika i kanten av en skogsdunge och där ägnar vi en stund åt pranayama och meditation. Vandringen är 8 km lång\, och relativt lättvandrad. Miljön är sagolikt vacker. Begränsat antal deltagare. \nMadeleine som är guide är utbildad yogalärare inom flera discipliner\, uteyogacoach\, skogsbadsguide\, psykosyntesterapeut\, rosenterapeut och har lång erfarenhet av att arbeta med grupper och gruppdynamik. Hon har också en daglig meditationspraktik (Vipassana) och åker kontinuerligt på tysta retreater för att fylla på och hämta inspiration. Hon är också författare till åtta böcker inom personlig utveckling och ledarskap. Hon hämtar inspiration från alla delar av sitt arbete. En viktig del är att alla ska känna sig välkomna och vara del av en varm gemenskap. \nBjörn är co-guide och är utbildad yogalärare med fokus på hathayoga. Han är också utbildad psykosyntes coach och van att leda grupper. \n“Jag har varit på flera olika yogavandringar och Madeleine & Björns är i en klass för sig. Omsorgsfullt valda platser i naturen\, alltid balans mellan vandring\, yoga\, meditation och mat. Samtidigt oerhört professionellt och avslappnat. Helt enkelt underbart för kropp och själ!” Therese S \nAnmälan sker via e-post till madeleine@businessinspiration.se och betalning 695 kr till swishnr 1233769288 (Business Inspiration Sweden AB). När betalningen är gjord är platsen bokad. Bekväma kläder efter väder. Medtag yogamatta samt lunch\, fika och vatten. Badkläder kan också komma väl till pass. \nVi har mjukat upp SAUFs (Sveriges auktoriserade utbildningsföretag) standardregler för avbokning av öppen kurs. Detta innebär att din anmälan är bindande så snart du har fått en bekräftelse skickad till dig. Vid avbokning 14-8 dagar före kursstart debiteras 50% av kursavgiften. Vid avbokning och icke-deltagande utan avbokning 7-0 dagar före kursstart debiteras 100% av kursavgiften. Du kan överlåta din plats till annan deltagare. Meddela oss isf så vi vet vem som kommer 😊. Ställs kursen in betalar vi tillbaka din inbetalning.
URL:https://www.grevlundayoga.se/event/yogavandring-havang-vitemolla-tema-mera-gladje-i-livet/
LOCATION:Haväng\, Haväng\, Haväng\, Sverige
CATEGORIES:Yoga
ATTACH;FMTTYPE=image/jpeg:https://www.grevlundayoga.se/wp-content/uploads/2022/04/Yogavandring-compassion.jpg
ORGANIZER;CN="Grevlunda Yoga":MAILTO:madeleine@businessinspiration.se
END:VEVENT
END:VCALENDAR