BEGIN:VCALENDAR
VERSION:2.0
PRODID:-//Grevlunda Yoga på Österlen - ECPv6.15.20//NONSGML v1.0//EN
CALSCALE:GREGORIAN
METHOD:PUBLISH
X-WR-CALNAME:Grevlunda Yoga på Österlen
X-ORIGINAL-URL:https://www.grevlundayoga.se
X-WR-CALDESC:Händelser för Grevlunda Yoga på Österlen
REFRESH-INTERVAL;VALUE=DURATION:PT1H
X-Robots-Tag:noindex
X-PUBLISHED-TTL:PT1H
BEGIN:VTIMEZONE
TZID:Europe/Stockholm
BEGIN:DAYLIGHT
TZOFFSETFROM:+0100
TZOFFSETTO:+0200
TZNAME:CEST
DTSTART:20230326T010000
END:DAYLIGHT
BEGIN:STANDARD
TZOFFSETFROM:+0200
TZOFFSETTO:+0100
TZNAME:CET
DTSTART:20231029T010000
END:STANDARD
BEGIN:DAYLIGHT
TZOFFSETFROM:+0100
TZOFFSETTO:+0200
TZNAME:CEST
DTSTART:20240331T010000
END:DAYLIGHT
BEGIN:STANDARD
TZOFFSETFROM:+0200
TZOFFSETTO:+0100
TZNAME:CET
DTSTART:20241027T010000
END:STANDARD
BEGIN:DAYLIGHT
TZOFFSETFROM:+0100
TZOFFSETTO:+0200
TZNAME:CEST
DTSTART:20250330T010000
END:DAYLIGHT
BEGIN:STANDARD
TZOFFSETFROM:+0200
TZOFFSETTO:+0100
TZNAME:CET
DTSTART:20251026T010000
END:STANDARD
END:VTIMEZONE
BEGIN:VEVENT
DTSTART;TZID=Europe/Stockholm:20240407T170000
DTEND;TZID=Europe/Stockholm:20240407T180000
DTSTAMP:20260422T173720
CREATED:20240209T111859Z
LAST-MODIFIED:20240209T111859Z
UID:1533-1712509200-1712512800@www.grevlundayoga.se
SUMMARY:Meditationskurs (Vipassana) - fem gånger
DESCRIPTION:Vipassana är grunden till det vi inom väst kallar Mindfulness eller Medveten närvaro. Det är ett effektivt verktyg för att hantera stress\, reglera känslor\, öka kroppsmedvetenheten\, öka koncentrationsförmågan och välbefinnandet. \nVarmt välkommen till en meditationskurs om fem gånger. Vi träffas varje söndag med start den 7 april. Tid 17.00-18.00. Du kommer att få en inledande guidning med olika instruktioner varje gång\, sedan mediterar vi tillsammans under tystnad. Du kan välja att sitta på en stol eller på golvet. Kursen passar både nybörjare och mer erfarna. Din investering är 595 kronor för alla gångerna. Anmälan sker via mejl till madeleine@businessinspiration.se. Platsen är bokad när betalningen är gjord till  swishnr 1233769288 (Business Inspiration). \n\nMindfulness om andningen\nMindfulness om fysiska sinnesförnimmelser\nMindfulness om tankar\nMindfulness om känslor\nMindfulness om nuet / Open awareness\n\nLärare är Madeleine som gick sin första meditationskurs i tjugoårsåldern. Hon har sedan dess praktiserat olika meditationstekniker och har sedan flera år tillbaka en daglig praktik i Vipassana. Hon åker på tysta längre retreater flera gånger per år.’
URL:https://www.grevlundayoga.se/event/meditationskurs-vipassana-fem-ganger-3/
LOCATION:Grevlunda Backar\, Grevlunda Backaväg 8\, Vitaby\, Skåne\, 27736\, Sverige
ATTACH;FMTTYPE=image/jpeg:https://www.grevlundayoga.se/wp-content/uploads/2021/11/Madeleine-Yoga-sittande.jpg
ORGANIZER;CN="Grevlunda Yoga":MAILTO:madeleine@businessinspiration.se
END:VEVENT
END:VCALENDAR