BEGIN:VCALENDAR
VERSION:2.0
PRODID:-//Grevlunda Yoga på Österlen - ECPv6.15.18//NONSGML v1.0//EN
CALSCALE:GREGORIAN
METHOD:PUBLISH
X-ORIGINAL-URL:https://www.grevlundayoga.se
X-WR-CALDESC:Händelser för Grevlunda Yoga på Österlen
REFRESH-INTERVAL;VALUE=DURATION:PT1H
X-Robots-Tag:noindex
X-PUBLISHED-TTL:PT1H
BEGIN:VTIMEZONE
TZID:Europe/Stockholm
BEGIN:DAYLIGHT
TZOFFSETFROM:+0100
TZOFFSETTO:+0200
TZNAME:CEST
DTSTART:20240331T010000
END:DAYLIGHT
BEGIN:STANDARD
TZOFFSETFROM:+0200
TZOFFSETTO:+0100
TZNAME:CET
DTSTART:20241027T010000
END:STANDARD
BEGIN:DAYLIGHT
TZOFFSETFROM:+0100
TZOFFSETTO:+0200
TZNAME:CEST
DTSTART:20250330T010000
END:DAYLIGHT
BEGIN:STANDARD
TZOFFSETFROM:+0200
TZOFFSETTO:+0100
TZNAME:CET
DTSTART:20251026T010000
END:STANDARD
BEGIN:DAYLIGHT
TZOFFSETFROM:+0100
TZOFFSETTO:+0200
TZNAME:CEST
DTSTART:20260329T010000
END:DAYLIGHT
BEGIN:STANDARD
TZOFFSETFROM:+0200
TZOFFSETTO:+0100
TZNAME:CET
DTSTART:20261025T010000
END:STANDARD
END:VTIMEZONE
BEGIN:VEVENT
DTSTART;TZID=Europe/Stockholm:20250120T180000
DTEND;TZID=Europe/Stockholm:20250120T191500
DTSTAMP:20260421T164620
CREATED:20241022T120129Z
LAST-MODIFIED:20241022T120903Z
UID:1818-1737396000-1737400500@www.grevlundayoga.se
SUMMARY:Hatha Yoga kurs – 12 tillfällen på måndagar
DESCRIPTION:Vill du fördjupa dina kunskaper i Hatha yoga eller är du ny till yogan och vill lära dig grunderna? Du kanske bara vill komma på ett skönt yoga pass? Oavsett vilket så passar den här kursen dig. Med hjälp av Hatha yogan så bygger du styrka samtidigt som du ökar rörligheten. Samtidigt får du verktyg för att stilla ditt sinne och öka ditt välbefinnande. \nBjörn har 500 timmars yogalärarutbildning och har specialiserat sig på Hatha yoga som han brinner för. Björn guidar dig tryggt genom yogapasset oavsett vilken nivå du är på. \nKursen startar den 20 januari 2024 kl. 18.00-19.15 och pågår till och med den 7 april. Totalt 12 tillfällen.  Varje pass är unikt och uppbyggt kring ett specifikt tema för att du ska lära dig så mycket som möjligt. \nAnmäl dig till hela terminen  och ha en garanterad plats\, 1800 kr för hela terminen. Anmälan till hela terminen görs till bjorn@businessinspiration.se. Platsen är bokad när betalningen på 1800 kr är gjord till swishnr 1233769288 (Business Inspiration Sweden AB). Alternativt boka per gång i mån av plats\, 200 kr per gång\, görs via TimeCenter. \n”Fantatiskt hathapass med en otroligt duktig instruktör” \n”Var på invigningspass med Björn och kommer mer än gärna tillbaka! Och så vackert gården ligger!” \n”Vackert belägen yogastudio med trevlig och erfaren yogaledare. Jag kan varmt rekommendera att delta i yogapass här.”
URL:https://www.grevlundayoga.se/event/hatha-yoga-kurs-mandagar-1800-1915-2/
LOCATION:Grevlunda Backar\, Grevlunda Backaväg 8\, Vitaby\, Skåne\, 27736\, Sverige
CATEGORIES:Yoga
ATTACH;FMTTYPE=image/jpeg:https://www.grevlundayoga.se/wp-content/uploads/2023/07/Yoga-e1690009010613.jpg
ORGANIZER;CN="Grevlunda Yoga":MAILTO:madeleine@businessinspiration.se
END:VEVENT
BEGIN:VEVENT
DTSTART;TZID=Europe/Stockholm:20250121T180000
DTEND;TZID=Europe/Stockholm:20250121T191500
DTSTAMP:20260421T164620
CREATED:20241007T081715Z
LAST-MODIFIED:20250113T101057Z
UID:1803-1737482400-1737486900@www.grevlundayoga.se
SUMMARY:Funktionell mindful yinyoga kurs om 12 tisdagar
DESCRIPTION:OBS FULLBOKAD! \nVarmt välkommen till yinyoga kurs 12 tisdagar kl. 18.00-19.15 med start den 21 januari 2025. Vi lär ut funktionell mindful yinyoga\, vilket innebär att varje position har ett eller flera fokusområden och du lär dig att anpassa positionen efter din kropp. Det finns flera varianter för en och samma position och det viktiga är att du lyssnar in din kropp istället för att försöka uppnå en optimal eller rätt position. Under positionen övar vi medveten närvaro med kroppen som ankare i nuet. Varje pass är unikt och uppbyggt kring ett specifikt tema. \nMadeleine som guidar dagen har 500 ++ timmars yogalärarutbildning\, certifierad enligt Yoga Alliance\, varav 200 timmar är yinyogalärarutbildning. Hon är även utbildad psykosyntesterapeut\, rosenterapeut\, skogsbadsguide och uteyogacoach. Hon har en daglig meditationspraktik (Vipassana) och åker på tysta retreater flera gånger per år. Hon har tidigare arbetat som terapeut på heltid under 10 år\, och är författare till åtta böcker om personlig utveckling och ledarskap. \n”Fantastisk miljö för yoga och stillhet. Tydliga och informativa instruktioner. Varmt\, vänligt och välkomnande.” Annica \n”Det var en fantastisk miljö och yogan var harmonisk och mjuk\, rekommenderar verkligen att komma hit.” Monica \nAnmälan till hela terminen görs till madeleine@businessinspiration.se. Platsen är bokad när betalningen 1800 kr är gjord till swishnr 1233769288 (Business Inspiration Sweden AB).
URL:https://www.grevlundayoga.se/event/funktionell-mindful-yinyoga-kurs-om-12-tisdagar/
LOCATION:Grevlunda Backar\, Grevlunda Backaväg 8\, Vitaby\, Skåne\, 27736\, Sverige
ATTACH;FMTTYPE=image/jpeg:https://www.grevlundayoga.se/wp-content/uploads/2024/10/yinyoga-kurs.jpg
ORGANIZER;CN="Grevlunda Yoga":MAILTO:madeleine@businessinspiration.se
END:VEVENT
END:VCALENDAR