BEGIN:VCALENDAR
VERSION:2.0
PRODID:-//Grevlunda Yoga på Österlen - ECPv6.15.18//NONSGML v1.0//EN
CALSCALE:GREGORIAN
METHOD:PUBLISH
X-WR-CALNAME:Grevlunda Yoga på Österlen
X-ORIGINAL-URL:https://www.grevlundayoga.se
X-WR-CALDESC:Händelser för Grevlunda Yoga på Österlen
REFRESH-INTERVAL;VALUE=DURATION:PT1H
X-Robots-Tag:noindex
X-PUBLISHED-TTL:PT1H
BEGIN:VTIMEZONE
TZID:Europe/Stockholm
BEGIN:DAYLIGHT
TZOFFSETFROM:+0100
TZOFFSETTO:+0200
TZNAME:CEST
DTSTART:20250330T010000
END:DAYLIGHT
BEGIN:STANDARD
TZOFFSETFROM:+0200
TZOFFSETTO:+0100
TZNAME:CET
DTSTART:20251026T010000
END:STANDARD
BEGIN:DAYLIGHT
TZOFFSETFROM:+0100
TZOFFSETTO:+0200
TZNAME:CEST
DTSTART:20260329T010000
END:DAYLIGHT
BEGIN:STANDARD
TZOFFSETFROM:+0200
TZOFFSETTO:+0100
TZNAME:CET
DTSTART:20261025T010000
END:STANDARD
BEGIN:DAYLIGHT
TZOFFSETFROM:+0100
TZOFFSETTO:+0200
TZNAME:CEST
DTSTART:20270328T010000
END:DAYLIGHT
BEGIN:STANDARD
TZOFFSETFROM:+0200
TZOFFSETTO:+0100
TZNAME:CET
DTSTART:20271031T010000
END:STANDARD
END:VTIMEZONE
BEGIN:VEVENT
DTSTART;TZID=Europe/Stockholm:20260507T173000
DTEND;TZID=Europe/Stockholm:20260507T190000
DTSTAMP:20260421T175937
CREATED:20260329T120244Z
LAST-MODIFIED:20260417T065943Z
UID:2671-1778175000-1778180400@www.grevlundayoga.se
SUMMARY:Vill du vara med i vår meditations- sangha?
DESCRIPTION:Vi är några som vill starta en sangha för att fördjupa meditationen och utforska den buddhistiska filosofin. Vi välkomnar dig som har varit med på minst en retreat och kan meditera Vipassana/Insiktsmeditation/Mindfulness och Metta på egen hand under tystnad. Vi träffas 2 torsdagar i månaden kl. 17.30 till 19.00 hos Grevlunda yoga. Under träffen börjar vi med att meditera tillsammans (totalt 60 minuter) och avslutar med en gemensam te-stund för de som önskar. Självkostnadspris 50 kr\, swishas på plats. Om du är intresserad tar du kontakt med Madeleine på madeleine@businessinspiration.se. Efter din första gång är det oanmäld drop-in som gäller. Datum för våren 9 april\, 16 april\, 7 maj\, 28 maj\, 4 juni och 25 juni.\n\nVarmt välkommen Madeleine\, Björn och Louise
URL:https://www.grevlundayoga.se/event/vill-du-vara-med-i-var-meditations-sangha/
LOCATION:Grevlunda Backar\, Grevlunda Backaväg 8\, Vitaby\, Skåne\, 27736\, Sverige
ATTACH;FMTTYPE=image/jpeg:https://www.grevlundayoga.se/wp-content/uploads/2026/03/Buddhaformat.jpg
ORGANIZER;CN="Grevlunda Yoga":MAILTO:madeleine@businessinspiration.se
END:VEVENT
END:VCALENDAR