BEGIN:VCALENDAR
VERSION:2.0
PRODID:-//Grevlunda Yoga på Österlen - ECPv6.15.18//NONSGML v1.0//EN
CALSCALE:GREGORIAN
METHOD:PUBLISH
X-WR-CALNAME:Grevlunda Yoga på Österlen
X-ORIGINAL-URL:https://www.grevlundayoga.se
X-WR-CALDESC:Händelser för Grevlunda Yoga på Österlen
REFRESH-INTERVAL;VALUE=DURATION:PT1H
X-Robots-Tag:noindex
X-PUBLISHED-TTL:PT1H
BEGIN:VTIMEZONE
TZID:Europe/Stockholm
BEGIN:DAYLIGHT
TZOFFSETFROM:+0100
TZOFFSETTO:+0200
TZNAME:CEST
DTSTART:20250330T010000
END:DAYLIGHT
BEGIN:STANDARD
TZOFFSETFROM:+0200
TZOFFSETTO:+0100
TZNAME:CET
DTSTART:20251026T010000
END:STANDARD
BEGIN:DAYLIGHT
TZOFFSETFROM:+0100
TZOFFSETTO:+0200
TZNAME:CEST
DTSTART:20260329T010000
END:DAYLIGHT
BEGIN:STANDARD
TZOFFSETFROM:+0200
TZOFFSETTO:+0100
TZNAME:CET
DTSTART:20261025T010000
END:STANDARD
BEGIN:DAYLIGHT
TZOFFSETFROM:+0100
TZOFFSETTO:+0200
TZNAME:CEST
DTSTART:20270328T010000
END:DAYLIGHT
BEGIN:STANDARD
TZOFFSETFROM:+0200
TZOFFSETTO:+0100
TZNAME:CET
DTSTART:20271031T010000
END:STANDARD
END:VTIMEZONE
BEGIN:VEVENT
DTSTART;TZID=Europe/Stockholm:20260420T180000
DTEND;TZID=Europe/Stockholm:20260420T191500
DTSTAMP:20260420T104427
CREATED:20260319T094648Z
LAST-MODIFIED:20260319T101013Z
UID:2646-1776708000-1776712500@www.grevlundayoga.se
SUMMARY:Yoga för män - Drop-in
DESCRIPTION:Yoga för män är perfekt för dig som vill öka din rörlighet ock kroppsmedvetenhet samtidigt som du bygger styrka. Samtidigt får du verktyg för att stilla ditt sinne och öka ditt välbefinnande. Inför nästa kurs som startar upp hösten 2026 så erbjuder Björn drop-in pass där man kan prova på yogan. Passet är självklart även öppet för de som redan har gått på Björns kurser och vill fortsätta med yogan några måndagar till. Klassen passar såväl dig som vill börja med yoga och för dig som hållit på ett tag. En unik möjlighet att få utforska yogan i en trygg och avslappnad gemenskap tillsammans med likasinnade män. \nBjörn som håller kursen kom i kontakt med yogan för 15 år sedan och yogan är idag en central del av hans liv. Björn har 500 timmars yogalärarutbildning och har specialiserat sig på Hatha yoga som han brinner för.  Björns klasser är dynamiska och styrkebaserade men ger också utrymme för att landa i dig själv för att skapa en ökad avslappning\, närvaro och medvetenhet.  Björn guidar dig tryggt genom yogapasset oavsett vilken nivå du är på. \nAnmälan görs genom att köpa en biljett genom att klicka på knappen nedan och gå vidare i utcheckningsprocessen. Du kommer erhålla en biljett och ett kvitto på mail. Priset är 200 kr för ett pass. Om du har några frågor eller problem med biljettköpet\, kontakta Björn på  bjorn@businessinspiration.se. \n”Fantatiskt hathapass med en otroligt duktig instruktör” \n”Var på invigningspass med Björn och kommer mer än gärna tillbaka! Och så vackert gården ligger!” \n”Vackert belägen yogastudio med trevlig och erfaren yogaledare. Jag kan varmt rekommendera att delta i yogapass här.”
URL:https://www.grevlundayoga.se/event/yoga-for-man-drop-in/
LOCATION:Grevlunda Backar\, Grevlunda Backaväg 8\, Vitaby\, Skåne\, 27736\, Sverige
CATEGORIES:Yoga
ATTACH;FMTTYPE=image/jpeg:https://www.grevlundayoga.se/wp-content/uploads/2023/07/Yoga-e1690009010613.jpg
ORGANIZER;CN="Grevlunda Yoga":MAILTO:madeleine@businessinspiration.se
END:VEVENT
END:VCALENDAR