BEGIN:VCALENDAR
VERSION:2.0
PRODID:-//Grevlunda Yoga på Österlen - ECPv6.15.20//NONSGML v1.0//EN
CALSCALE:GREGORIAN
METHOD:PUBLISH
X-WR-CALNAME:Grevlunda Yoga på Österlen
X-ORIGINAL-URL:https://www.grevlundayoga.se
X-WR-CALDESC:Händelser för Grevlunda Yoga på Österlen
REFRESH-INTERVAL;VALUE=DURATION:PT1H
X-Robots-Tag:noindex
X-PUBLISHED-TTL:PT1H
BEGIN:VTIMEZONE
TZID:Europe/Stockholm
BEGIN:DAYLIGHT
TZOFFSETFROM:+0100
TZOFFSETTO:+0200
TZNAME:CEST
DTSTART:20240331T010000
END:DAYLIGHT
BEGIN:STANDARD
TZOFFSETFROM:+0200
TZOFFSETTO:+0100
TZNAME:CET
DTSTART:20241027T010000
END:STANDARD
BEGIN:DAYLIGHT
TZOFFSETFROM:+0100
TZOFFSETTO:+0200
TZNAME:CEST
DTSTART:20250330T010000
END:DAYLIGHT
BEGIN:STANDARD
TZOFFSETFROM:+0200
TZOFFSETTO:+0100
TZNAME:CET
DTSTART:20251026T010000
END:STANDARD
BEGIN:DAYLIGHT
TZOFFSETFROM:+0100
TZOFFSETTO:+0200
TZNAME:CEST
DTSTART:20260329T010000
END:DAYLIGHT
BEGIN:STANDARD
TZOFFSETFROM:+0200
TZOFFSETTO:+0100
TZNAME:CET
DTSTART:20261025T010000
END:STANDARD
END:VTIMEZONE
BEGIN:VEVENT
DTSTART;TZID=Europe/Stockholm:20250701T090000
DTEND;TZID=Europe/Stockholm:20250701T101500
DTSTAMP:20260423T024024
CREATED:20250521T124204Z
LAST-MODIFIED:20250521T125342Z
UID:2007-1751360400-1751364900@www.grevlundayoga.se
SUMMARY:Sommaryoga - hathayoga och yinyoga
DESCRIPTION:Varmt välkommen att starta dagen med ett ljuvligt yogapass för välutbildade och erfarna yogalärare i en ljuvlig studio på en sagolik plats med utsikt över Österlens böljande landskap. Under tre veckor erbjuder vi hathayoga på tisdagar och torsdagar kl 9.00 till 10.15 (1\, 3\, 8\,10\, 15 och 17 juli) och yinyoga på onsdagar kl. 9.00 till 10.15 (2\, 9 och 16 juli).\n\nUnder hathayogan rör dig i takt med andetaget och yogar igenom hela kroppen. Under yinyogan arbetar vi med fascian och nervsystemet och stannar kvar i positionerna 3 till 5 minuter. Vi guidar dig att anpassa yogan efter dig och din kropp. Mattor och hjälpmedel finns att låna. Läs mer om oss på Om oss – Grevlunda Yoga på Österlen. Pris 200 kr som swishas på plats. Vi tar även epassi. Begränsat antal platser så boka din plats via TimeCenter\n\nVarmt välkommen 🙂 Madeleine och Björn
URL:https://www.grevlundayoga.se/event/sommaryoga-hathayoga-och-yinyoga/
LOCATION:Grevlunda Backar\, Grevlunda Backaväg 8\, Vitaby\, Skåne\, 27736\, Sverige
CATEGORIES:Yoga
ATTACH;FMTTYPE=image/jpeg:https://www.grevlundayoga.se/wp-content/uploads/2025/05/Yinyoga-eld.jpg
ORGANIZER;CN="Grevlunda Yoga":MAILTO:madeleine@businessinspiration.se
END:VEVENT
END:VCALENDAR