BEGIN:VCALENDAR
VERSION:2.0
PRODID:-//Grevlunda Yoga på Österlen - ECPv6.15.18//NONSGML v1.0//EN
CALSCALE:GREGORIAN
METHOD:PUBLISH
X-WR-CALNAME:Grevlunda Yoga på Österlen
X-ORIGINAL-URL:https://www.grevlundayoga.se
X-WR-CALDESC:Händelser för Grevlunda Yoga på Österlen
REFRESH-INTERVAL;VALUE=DURATION:PT1H
X-Robots-Tag:noindex
X-PUBLISHED-TTL:PT1H
BEGIN:VTIMEZONE
TZID:Europe/Stockholm
BEGIN:DAYLIGHT
TZOFFSETFROM:+0100
TZOFFSETTO:+0200
TZNAME:CEST
DTSTART:20240331T010000
END:DAYLIGHT
BEGIN:STANDARD
TZOFFSETFROM:+0200
TZOFFSETTO:+0100
TZNAME:CET
DTSTART:20241027T010000
END:STANDARD
BEGIN:DAYLIGHT
TZOFFSETFROM:+0100
TZOFFSETTO:+0200
TZNAME:CEST
DTSTART:20250330T010000
END:DAYLIGHT
BEGIN:STANDARD
TZOFFSETFROM:+0200
TZOFFSETTO:+0100
TZNAME:CET
DTSTART:20251026T010000
END:STANDARD
BEGIN:DAYLIGHT
TZOFFSETFROM:+0100
TZOFFSETTO:+0200
TZNAME:CEST
DTSTART:20260329T010000
END:DAYLIGHT
BEGIN:STANDARD
TZOFFSETFROM:+0200
TZOFFSETTO:+0100
TZNAME:CET
DTSTART:20261025T010000
END:STANDARD
END:VTIMEZONE
BEGIN:VEVENT
DTSTART;TZID=Europe/Stockholm:20250615T090000
DTEND;TZID=Europe/Stockholm:20250615T160000
DTSTAMP:20260420T214423
CREATED:20250128T104649Z
LAST-MODIFIED:20250130T162358Z
UID:1900-1749978000-1750003200@www.grevlundayoga.se
SUMMARY:Grevlunda Yoga fyller tre år
DESCRIPTION:Nu är det tre år sedan Grevlunda yoga slog upp portarna här på Österlen. Vi är så tacksamma och glada för alla som har varit här hos oss och yogat\, mediterat eller tagit del av ett eller flera av våra event. Vi vill fira med så många som möjligt. Under dagen erbjuder vi tre klasser\, med erbjudandet kom två betala för en\, och efter passet bjuds det på nyttig fika (kaffe/te och kaka). Allt vi bakar är mjölkfritt\, glutenfritt och naturligt sötat. \n\n9.00-10.15 Hathayoga\n11.00-12.15 Yinyoga\n14.00-15.15 Meditation (Vipassana med efterföljande metta meditation)\n\nBoka plats via TimeCenter. Du behöver inte ta med dig något. Matta och hjälpmedel finns på plats. Ange om du behöver sitta på stol under meditationen eller om du har någon allergi. Du swishar betalningen på plats 200 kr per pass (ordinarie pris)\, så om du tar med en vän blir det 100 kr per person. \nVarmt välkommen önskar Madeleine och Björn
URL:https://www.grevlundayoga.se/event/grevlunda-yoga-fyller-tre-ar/
LOCATION:Grevlunda Backar\, Grevlunda Backaväg 8\, Vitaby\, Skåne\, 27736\, Sverige
CATEGORIES:Yoga
ATTACH;FMTTYPE=image/jpeg:https://www.grevlundayoga.se/wp-content/uploads/2025/01/Madeleine-och-Bjorn-3-ar-text.jpg
ORGANIZER;CN="Grevlunda Yoga":MAILTO:madeleine@businessinspiration.se
END:VEVENT
END:VCALENDAR